| Back to Multiple platform build/check report for BioC 3.10 |
|
This page was generated on 2020-04-15 12:30:09 -0400 (Wed, 15 Apr 2020).
| Package 837/1823 | Hostname | OS / Arch | INSTALL | BUILD | CHECK | BUILD BIN | ||||||
| IMMAN 1.6.0 Minoo Ashtiani
| malbec1 | Linux (Ubuntu 18.04.4 LTS) / x86_64 | OK | OK | OK | |||||||
| tokay1 | Windows Server 2012 R2 Standard / x64 | [ OK ] | OK | OK | OK | |||||||
| merida1 | OS X 10.11.6 El Capitan / x86_64 | OK | OK | OK | OK |
| Package: IMMAN |
| Version: 1.6.0 |
| Command: C:\cygwin\bin\curl.exe -O https://malbec1.bioconductor.org/BBS/3.10/bioc/src/contrib/IMMAN_1.6.0.tar.gz && rm -rf IMMAN.buildbin-libdir && mkdir IMMAN.buildbin-libdir && C:\Users\biocbuild\bbs-3.10-bioc\R\bin\R.exe CMD INSTALL --merge-multiarch --build --library=IMMAN.buildbin-libdir IMMAN_1.6.0.tar.gz && C:\Users\biocbuild\bbs-3.10-bioc\R\bin\R.exe CMD INSTALL IMMAN_1.6.0.zip && rm IMMAN_1.6.0.tar.gz IMMAN_1.6.0.zip |
| StartedAt: 2020-04-14 19:17:04 -0400 (Tue, 14 Apr 2020) |
| EndedAt: 2020-04-14 19:17:40 -0400 (Tue, 14 Apr 2020) |
| EllapsedTime: 36.0 seconds |
| RetCode: 0 |
| Status: OK |
##############################################################################
##############################################################################
###
### Running command:
###
### C:\cygwin\bin\curl.exe -O https://malbec1.bioconductor.org/BBS/3.10/bioc/src/contrib/IMMAN_1.6.0.tar.gz && rm -rf IMMAN.buildbin-libdir && mkdir IMMAN.buildbin-libdir && C:\Users\biocbuild\bbs-3.10-bioc\R\bin\R.exe CMD INSTALL --merge-multiarch --build --library=IMMAN.buildbin-libdir IMMAN_1.6.0.tar.gz && C:\Users\biocbuild\bbs-3.10-bioc\R\bin\R.exe CMD INSTALL IMMAN_1.6.0.zip && rm IMMAN_1.6.0.tar.gz IMMAN_1.6.0.zip
###
##############################################################################
##############################################################################
% Total % Received % Xferd Average Speed Time Time Time Current
Dload Upload Total Spent Left Speed
0 0 0 0 0 0 0 0 --:--:-- --:--:-- --:--:-- 0
0 14534 0 0 0 0 0 0 --:--:-- --:--:-- --:--:-- 0
100 14534 100 14534 0 0 59645 0 --:--:-- --:--:-- --:--:-- 60307
install for i386
* installing *source* package 'IMMAN' ...
** using staged installation
** R
** data
*** moving datasets to lazyload DB
** byte-compile and prepare package for lazy loading
** help
*** installing help indices
converting help for package 'IMMAN'
finding HTML links ... done
Celegance html
FruitFly html
H.sapiens html
IMMAN html
R.norvegicus html
** building package indices
** installing vignettes
** testing if installed package can be loaded from temporary location
** testing if installed package can be loaded from final location
** testing if installed package keeps a record of temporary installation path
install for x64
* installing *source* package 'IMMAN' ...
** testing if installed package can be loaded
* MD5 sums
packaged installation of 'IMMAN' as IMMAN_1.6.0.zip
* DONE (IMMAN)
* installing to library 'C:/Users/biocbuild/bbs-3.10-bioc/R/library'
package 'IMMAN' successfully unpacked and MD5 sums checked