| Back to Multiple platform build/check report for BioC 3.10 |
|
This page was generated on 2020-04-15 12:25:16 -0400 (Wed, 15 Apr 2020).
| Package 788/1823 | Hostname | OS / Arch | INSTALL | BUILD | CHECK | BUILD BIN | ||||||
| HilbertCurve 1.16.0 Zuguang Gu
| malbec1 | Linux (Ubuntu 18.04.4 LTS) / x86_64 | OK | OK | OK | |||||||
| tokay1 | Windows Server 2012 R2 Standard / x64 | OK | OK | [ OK ] | OK | |||||||
| merida1 | OS X 10.11.6 El Capitan / x86_64 | OK | OK | OK | OK |
| Package: HilbertCurve |
| Version: 1.16.0 |
| Command: C:\Users\biocbuild\bbs-3.10-bioc\R\bin\R.exe CMD check --force-multiarch --install=check:HilbertCurve.install-out.txt --library=C:\Users\biocbuild\bbs-3.10-bioc\R\library --no-vignettes --timings HilbertCurve_1.16.0.tar.gz |
| StartedAt: 2020-04-15 03:53:09 -0400 (Wed, 15 Apr 2020) |
| EndedAt: 2020-04-15 03:57:02 -0400 (Wed, 15 Apr 2020) |
| EllapsedTime: 233.3 seconds |
| RetCode: 0 |
| Status: OK |
| CheckDir: HilbertCurve.Rcheck |
| Warnings: 0 |
##############################################################################
##############################################################################
###
### Running command:
###
### C:\Users\biocbuild\bbs-3.10-bioc\R\bin\R.exe CMD check --force-multiarch --install=check:HilbertCurve.install-out.txt --library=C:\Users\biocbuild\bbs-3.10-bioc\R\library --no-vignettes --timings HilbertCurve_1.16.0.tar.gz
###
##############################################################################
##############################################################################
* using log directory 'C:/Users/biocbuild/bbs-3.10-bioc/meat/HilbertCurve.Rcheck'
* using R version 3.6.3 (2020-02-29)
* using platform: x86_64-w64-mingw32 (64-bit)
* using session charset: ISO8859-1
* using option '--no-vignettes'
* checking for file 'HilbertCurve/DESCRIPTION' ... OK
* checking extension type ... Package
* this is package 'HilbertCurve' version '1.16.0'
* checking package namespace information ... OK
* checking package dependencies ... OK
* checking if this is a source package ... OK
* checking if there is a namespace ... OK
* checking for hidden files and directories ... OK
* checking for portable file names ... OK
* checking whether package 'HilbertCurve' can be installed ... OK
* checking installed package size ... OK
* checking package directory ... OK
* checking 'build' directory ... OK
* checking DESCRIPTION meta-information ... OK
* checking top-level files ... OK
* checking for left-over files ... OK
* checking index information ... OK
* checking package subdirectories ... OK
* checking R files for non-ASCII characters ... OK
* checking R files for syntax errors ... OK
* loading checks for arch 'i386'
** checking whether the package can be loaded ... OK
** checking whether the package can be loaded with stated dependencies ... OK
** checking whether the package can be unloaded cleanly ... OK
** checking whether the namespace can be loaded with stated dependencies ... OK
** checking whether the namespace can be unloaded cleanly ... OK
* loading checks for arch 'x64'
** checking whether the package can be loaded ... OK
** checking whether the package can be loaded with stated dependencies ... OK
** checking whether the package can be unloaded cleanly ... OK
** checking whether the namespace can be loaded with stated dependencies ... OK
** checking whether the namespace can be unloaded cleanly ... OK
* checking dependencies in R code ... OK
* checking S3 generic/method consistency ... OK
* checking replacement functions ... OK
* checking foreign function calls ... OK
* checking R code for possible problems ... OK
* checking Rd files ... OK
* checking Rd metadata ... OK
* checking Rd cross-references ... OK
* checking for missing documentation entries ... OK
* checking for code/documentation mismatches ... OK
* checking Rd \usage sections ... OK
* checking Rd contents ... OK
* checking for unstated dependencies in examples ... OK
* checking installed files from 'inst/doc' ... OK
* checking files in 'vignettes' ... OK
* checking examples ...
** running examples for arch 'i386' ... OK
Examples with CPU or elapsed time > 5s
user system elapsed
hc_layer-HilbertCurve-method 11.77 0.63 12.44
hc_layer-GenomicHilbertCurve-method 7.12 0.23 7.36
GenomicHilbertCurve 5.48 0.05 7.81
** running examples for arch 'x64' ... OK
Examples with CPU or elapsed time > 5s
user system elapsed
hc_layer-HilbertCurve-method 12.43 0.55 12.98
hc_layer-GenomicHilbertCurve-method 10.20 0.20 10.40
GenomicHilbertCurve 7.96 0.17 11.52
* checking for unstated dependencies in 'tests' ... OK
* checking tests ...
** running tests for arch 'i386' ...
Running 'test-all.R'
OK
** running tests for arch 'x64' ...
Running 'test-all.R'
OK
* checking for unstated dependencies in vignettes ... OK
* checking package vignettes in 'inst/doc' ... OK
* checking running R code from vignettes ... SKIPPED
* checking re-building of vignette outputs ... SKIPPED
* checking PDF version of manual ... OK
* DONE
Status: OK
HilbertCurve.Rcheck/00install.out
##############################################################################
##############################################################################
###
### Running command:
###
### C:\cygwin\bin\curl.exe -O https://malbec1.bioconductor.org/BBS/3.10/bioc/src/contrib/HilbertCurve_1.16.0.tar.gz && rm -rf HilbertCurve.buildbin-libdir && mkdir HilbertCurve.buildbin-libdir && C:\Users\biocbuild\bbs-3.10-bioc\R\bin\R.exe CMD INSTALL --merge-multiarch --build --library=HilbertCurve.buildbin-libdir HilbertCurve_1.16.0.tar.gz && C:\Users\biocbuild\bbs-3.10-bioc\R\bin\R.exe CMD INSTALL HilbertCurve_1.16.0.zip && rm HilbertCurve_1.16.0.tar.gz HilbertCurve_1.16.0.zip
###
##############################################################################
##############################################################################
% Total % Received % Xferd Average Speed Time Time Time Current
Dload Upload Total Spent Left Speed
0 0 0 0 0 0 0 0 --:--:-- --:--:-- --:--:-- 0
0 4237k 0 0 0 0 0 0 --:--:-- --:--:-- --:--:-- 0
100 4237k 100 4237k 0 0 22.1M 0 --:--:-- --:--:-- --:--:-- 22.4M
install for i386
* installing *source* package 'HilbertCurve' ...
** using staged installation
** R
** inst
** byte-compile and prepare package for lazy loading
** help
*** installing help indices
converting help for package 'HilbertCurve'
finding HTML links ... done
GenomicHilbertCurve-class html
GenomicHilbertCurve html
HilbertCurve-class html
HilbertCurve html
default_overlay html
hc_centered_text-HilbertCurve-method html
hc_layer-GenomicHilbertCurve-method html
hc_layer-HilbertCurve-method html
hc_layer-dispatch html
hc_level-HilbertCurve-method html
hc_map-GenomicHilbertCurve-method html
hc_normal_points-HilbertCurve-method html
hc_offset-HilbertCurve-method html
hc_png-HilbertCurve-method html
hc_points-GenomicHilbertCurve-method html
hc_points-HilbertCurve-method html
hc_points-dispatch html
hc_polygon-GenomicHilbertCurve-method html
hc_polygon-HilbertCurve-method html
hc_polygon-dispatch html
hc_rect-GenomicHilbertCurve-method html
hc_rect-HilbertCurve-method html
hc_rect-dispatch html
hc_segmented_points-HilbertCurve-method
html
hc_segments-GenomicHilbertCurve-method
html
hc_segments-HilbertCurve-method html
hc_segments-dispatch html
hc_text-GenomicHilbertCurve-method html
hc_text-HilbertCurve-method html
hc_text-dispatch html
is_white html
show-HilbertCurve-method html
unzoom-HilbertCurve-method html
zoom-HilbertCurve-method html
** building package indices
** installing vignettes
'HilbertCurve.Rmd'
** testing if installed package can be loaded from temporary location
** testing if installed package can be loaded from final location
** testing if installed package keeps a record of temporary installation path
install for x64
* installing *source* package 'HilbertCurve' ...
** testing if installed package can be loaded
* MD5 sums
packaged installation of 'HilbertCurve' as HilbertCurve_1.16.0.zip
* DONE (HilbertCurve)
* installing to library 'C:/Users/biocbuild/bbs-3.10-bioc/R/library'
package 'HilbertCurve' successfully unpacked and MD5 sums checked
|
HilbertCurve.Rcheck/tests_i386/test-all.Rout
R version 3.6.3 (2020-02-29) -- "Holding the Windsock"
Copyright (C) 2020 The R Foundation for Statistical Computing
Platform: i386-w64-mingw32/i386 (32-bit)
R is free software and comes with ABSOLUTELY NO WARRANTY.
You are welcome to redistribute it under certain conditions.
Type 'license()' or 'licence()' for distribution details.
R is a collaborative project with many contributors.
Type 'contributors()' for more information and
'citation()' on how to cite R or R packages in publications.
Type 'demo()' for some demos, 'help()' for on-line help, or
'help.start()' for an HTML browser interface to help.
Type 'q()' to quit R.
> library(testthat)
> suppressWarnings(suppressPackageStartupMessages(library(HilbertCurve)))
>
> test_check("HilbertCurve")
== testthat results ===========================================================
[ OK: 8 | SKIPPED: 0 | WARNINGS: 0 | FAILED: 0 ]
>
> proc.time()
user system elapsed
3.70 0.23 3.92
|
HilbertCurve.Rcheck/tests_x64/test-all.Rout
R version 3.6.3 (2020-02-29) -- "Holding the Windsock"
Copyright (C) 2020 The R Foundation for Statistical Computing
Platform: x86_64-w64-mingw32/x64 (64-bit)
R is free software and comes with ABSOLUTELY NO WARRANTY.
You are welcome to redistribute it under certain conditions.
Type 'license()' or 'licence()' for distribution details.
R is a collaborative project with many contributors.
Type 'contributors()' for more information and
'citation()' on how to cite R or R packages in publications.
Type 'demo()' for some demos, 'help()' for on-line help, or
'help.start()' for an HTML browser interface to help.
Type 'q()' to quit R.
> library(testthat)
> suppressWarnings(suppressPackageStartupMessages(library(HilbertCurve)))
>
> test_check("HilbertCurve")
== testthat results ===========================================================
[ OK: 8 | SKIPPED: 0 | WARNINGS: 0 | FAILED: 0 ]
>
> proc.time()
user system elapsed
3.67 0.31 3.96
|
|
HilbertCurve.Rcheck/examples_i386/HilbertCurve-Ex.timings
|
HilbertCurve.Rcheck/examples_x64/HilbertCurve-Ex.timings
|