| Back to Multiple platform build/check report for BioC 3.10 |
|
This page was generated on 2020-04-15 12:35:50 -0400 (Wed, 15 Apr 2020).
| Package 664/1823 | Hostname | OS / Arch | INSTALL | BUILD | CHECK | BUILD BIN | ||||||
| GeneSelectMMD 2.30.0 Weiliang Qiu
| malbec1 | Linux (Ubuntu 18.04.4 LTS) / x86_64 | OK | OK | WARNINGS | |||||||
| tokay1 | Windows Server 2012 R2 Standard / x64 | OK | OK | OK | OK | |||||||
| merida1 | OS X 10.11.6 El Capitan / x86_64 | [ OK ] | OK | WARNINGS | OK |
| Package: GeneSelectMMD |
| Version: 2.30.0 |
| Command: /Library/Frameworks/R.framework/Versions/Current/Resources/bin/R CMD INSTALL GeneSelectMMD |
| StartedAt: 2020-04-14 18:19:08 -0400 (Tue, 14 Apr 2020) |
| EndedAt: 2020-04-14 18:19:43 -0400 (Tue, 14 Apr 2020) |
| EllapsedTime: 35.1 seconds |
| RetCode: 0 |
| Status: OK |
##############################################################################
##############################################################################
###
### Running command:
###
### /Library/Frameworks/R.framework/Versions/Current/Resources/bin/R CMD INSTALL GeneSelectMMD
###
##############################################################################
##############################################################################
* installing to library ‘/Library/Frameworks/R.framework/Versions/3.6/Resources/library’
* installing *source* package ‘GeneSelectMMD’ ...
** using staged installation
** libs
gfortran -fPIC -Wall -g -O2 -c Qfunc.f -o Qfunc.o
gfortran -fPIC -Wall -g -O2 -c blas.f -o blas.o
clang -I"/Library/Frameworks/R.framework/Resources/include" -DNDEBUG -isysroot /Library/Developer/CommandLineTools/SDKs/MacOSX.sdk -I/usr/local/include -fPIC -Wall -g -O2 -c isnan.c -o isnan.o
gfortran -fPIC -Wall -g -O2 -c lbfgsb.f -o lbfgsb.o
lbfgsb.f:1491:0:
t(nbreak) = tu/neggi
Warning: ‘tu’ may be used uninitialized in this function [-Wmaybe-uninitialized]
lbfgsb.f:1482:0:
t(nbreak) = tl/(-neggi)
Warning: ‘tl’ may be used uninitialized in this function [-Wmaybe-uninitialized]
gfortran -fPIC -Wall -g -O2 -c lbfgsbDriver.f -o lbfgsbDriver.o
gfortran -fPIC -Wall -g -O2 -c linpack.f -o linpack.o
gfortran -fPIC -Wall -g -O2 -c llkhFun.f -o llkhFun.o
gfortran -fPIC -Wall -g -O2 -c myTtest.f -o myTtest.o
gfortran -fPIC -Wall -g -O2 -c paraEstLoop.f -o paraEstLoop.o
clang -I"/Library/Frameworks/R.framework/Resources/include" -DNDEBUG -isysroot /Library/Developer/CommandLineTools/SDKs/MacOSX.sdk -I/usr/local/include -fPIC -Wall -g -O2 -c pt.c -o pt.o
gfortran -fPIC -Wall -g -O2 -c timer.f -o timer.o
gfortran -fPIC -Wall -g -O2 -c wiFun.f -o wiFun.o
clang -dynamiclib -Wl,-headerpad_max_install_names -undefined dynamic_lookup -single_module -multiply_defined suppress -L/Library/Frameworks/R.framework/Resources/lib -L/usr/local/lib -o GeneSelectMMD.so Qfunc.o blas.o isnan.o lbfgsb.o lbfgsbDriver.o linpack.o llkhFun.o myTtest.o paraEstLoop.o pt.o timer.o wiFun.o -L/usr/local/gfortran/lib/gcc/x86_64-apple-darwin15/6.1.0 -L/usr/local/gfortran/lib -lgfortran -lquadmath -lm -F/Library/Frameworks/R.framework/.. -framework R -Wl,-framework -Wl,CoreFoundation
ld: warning: could not create compact unwind for _lbfgsbdriver_: stack subq instruction is too different from dwarf stack size
installing to /Library/Frameworks/R.framework/Versions/3.6/Resources/library/00LOCK-GeneSelectMMD/00new/GeneSelectMMD/libs
** R
** byte-compile and prepare package for lazy loading
** help
*** installing help indices
** building package indices
** installing vignettes
** testing if installed package can be loaded from temporary location
** checking absolute paths in shared objects and dynamic libraries
** testing if installed package can be loaded from final location
** testing if installed package keeps a record of temporary installation path
* DONE (GeneSelectMMD)