| Back to Multiple platform build/check report for BioC 3.10 |
|
This page was generated on 2020-04-15 12:35:09 -0400 (Wed, 15 Apr 2020).
| Package 754/1823 | Hostname | OS / Arch | INSTALL | BUILD | CHECK | BUILD BIN | ||||||
| GSEABase 1.48.0 Bioconductor Package Maintainer
| malbec1 | Linux (Ubuntu 18.04.4 LTS) / x86_64 | OK | OK | OK | |||||||
| tokay1 | Windows Server 2012 R2 Standard / x64 | OK | OK | OK | OK | |||||||
| merida1 | OS X 10.11.6 El Capitan / x86_64 | OK | OK | [ OK ] | OK |
| Package: GSEABase |
| Version: 1.48.0 |
| Command: /Library/Frameworks/R.framework/Versions/Current/Resources/bin/R CMD check --install=check:GSEABase.install-out.txt --library=/Library/Frameworks/R.framework/Versions/Current/Resources/library --no-vignettes --timings GSEABase_1.48.0.tar.gz |
| StartedAt: 2020-04-15 02:55:16 -0400 (Wed, 15 Apr 2020) |
| EndedAt: 2020-04-15 02:57:48 -0400 (Wed, 15 Apr 2020) |
| EllapsedTime: 152.4 seconds |
| RetCode: 0 |
| Status: OK |
| CheckDir: GSEABase.Rcheck |
| Warnings: 0 |
############################################################################## ############################################################################## ### ### Running command: ### ### /Library/Frameworks/R.framework/Versions/Current/Resources/bin/R CMD check --install=check:GSEABase.install-out.txt --library=/Library/Frameworks/R.framework/Versions/Current/Resources/library --no-vignettes --timings GSEABase_1.48.0.tar.gz ### ############################################################################## ############################################################################## * using log directory ‘/Users/biocbuild/bbs-3.10-bioc/meat/GSEABase.Rcheck’ * using R version 3.6.3 (2020-02-29) * using platform: x86_64-apple-darwin15.6.0 (64-bit) * using session charset: UTF-8 * using option ‘--no-vignettes’ * checking for file ‘GSEABase/DESCRIPTION’ ... OK * checking extension type ... Package * this is package ‘GSEABase’ version ‘1.48.0’ * checking package namespace information ... OK * checking package dependencies ... OK * checking if this is a source package ... OK * checking if there is a namespace ... OK * checking for hidden files and directories ... OK * checking for portable file names ... OK * checking for sufficient/correct file permissions ... OK * checking whether package ‘GSEABase’ can be installed ... OK * checking installed package size ... OK * checking package directory ... OK * checking ‘build’ directory ... OK * checking DESCRIPTION meta-information ... OK * checking top-level files ... OK * checking for left-over files ... OK * checking index information ... OK * checking package subdirectories ... OK * checking R files for non-ASCII characters ... OK * checking R files for syntax errors ... OK * checking whether the package can be loaded ... OK * checking whether the package can be loaded with stated dependencies ... OK * checking whether the package can be unloaded cleanly ... OK * checking whether the namespace can be loaded with stated dependencies ... OK * checking whether the namespace can be unloaded cleanly ... OK * checking dependencies in R code ... OK * checking S3 generic/method consistency ... OK * checking replacement functions ... OK * checking foreign function calls ... OK * checking R code for possible problems ... OK * checking Rd files ... OK * checking Rd metadata ... OK * checking Rd cross-references ... OK * checking for missing documentation entries ... OK * checking for code/documentation mismatches ... OK * checking Rd \usage sections ... OK * checking Rd contents ... OK * checking for unstated dependencies in examples ... OK * checking sizes of PDF files under ‘inst/doc’ ... OK * checking files in ‘vignettes’ ... OK * checking examples ... OK * checking for unstated dependencies in ‘tests’ ... OK * checking tests ... Running ‘unitTests.R’ OK * checking for unstated dependencies in vignettes ... OK * checking package vignettes in ‘inst/doc’ ... OK * checking running R code from vignettes ... SKIPPED * checking re-building of vignette outputs ... SKIPPED * checking PDF version of manual ... OK * DONE Status: OK
GSEABase.Rcheck/00install.out
############################################################################## ############################################################################## ### ### Running command: ### ### /Library/Frameworks/R.framework/Versions/Current/Resources/bin/R CMD INSTALL GSEABase ### ############################################################################## ############################################################################## * installing to library ‘/Library/Frameworks/R.framework/Versions/3.6/Resources/library’ * installing *source* package ‘GSEABase’ ... ** using staged installation ** R ** inst ** byte-compile and prepare package for lazy loading ** help *** installing help indices ** building package indices ** installing vignettes ** testing if installed package can be loaded from temporary location ** testing if installed package can be loaded from final location ** testing if installed package keeps a record of temporary installation path * DONE (GSEABase)
GSEABase.Rcheck/tests/unitTests.Rout
R version 3.6.3 (2020-02-29) -- "Holding the Windsock"
Copyright (C) 2020 The R Foundation for Statistical Computing
Platform: x86_64-apple-darwin15.6.0 (64-bit)
R is free software and comes with ABSOLUTELY NO WARRANTY.
You are welcome to redistribute it under certain conditions.
Type 'license()' or 'licence()' for distribution details.
R is a collaborative project with many contributors.
Type 'contributors()' for more information and
'citation()' on how to cite R or R packages in publications.
Type 'demo()' for some demos, 'help()' for on-line help, or
'help.start()' for an HTML browser interface to help.
Type 'q()' to quit R.
> BiocGenerics:::testPackage("GSEABase")
Attaching package: 'BiocGenerics'
The following objects are masked from 'package:parallel':
clusterApply, clusterApplyLB, clusterCall, clusterEvalQ,
clusterExport, clusterMap, parApply, parCapply, parLapply,
parLapplyLB, parRapply, parSapply, parSapplyLB
The following objects are masked from 'package:stats':
IQR, mad, sd, var, xtabs
The following objects are masked from 'package:base':
Filter, Find, Map, Position, Reduce, anyDuplicated, append,
as.data.frame, basename, cbind, colnames, dirname, do.call,
duplicated, eval, evalq, get, grep, grepl, intersect, is.unsorted,
lapply, mapply, match, mget, order, paste, pmax, pmax.int, pmin,
pmin.int, rank, rbind, rownames, sapply, setdiff, sort, table,
tapply, union, unique, unsplit, which, which.max, which.min
Welcome to Bioconductor
Vignettes contain introductory material; view with
'browseVignettes()'. To cite Bioconductor, see
'citation("Biobase")', and for packages 'citation("pkgname")'.
Attaching package: 'S4Vectors'
The following object is masked from 'package:base':
expand.grid
Attaching package: 'graph'
The following object is masked from 'package:XML':
addNode
'select()' returned 1:many mapping between keys and columns
'select()' returned 1:many mapping between keys and columns
'select()' returned 1:many mapping between keys and columns
'select()' returned 1:many mapping between keys and columns
'select()' returned 1:many mapping between keys and columns
'select()' returned 1:many mapping between keys and columns
'select()' returned 1:many mapping between keys and columns
'select()' returned 1:many mapping between keys and columns
RUNIT TEST PROTOCOL -- Wed Apr 15 02:57:42 2020
***********************************************
Number of test functions: 79
Number of errors: 0
Number of failures: 0
1 Test Suite :
GSEABase RUnit Tests - 79 test functions, 0 errors, 0 failures
Number of test functions: 79
Number of errors: 0
Number of failures: 0
>
> proc.time()
user system elapsed
19.413 1.193 20.792
GSEABase.Rcheck/GSEABase-Ex.timings
| name | user | system | elapsed | |
| CollectionType-class | 0.652 | 0.033 | 0.690 | |
| CollectionType-constructors | 0.157 | 0.008 | 0.167 | |
| GSEABase-package | 0.104 | 0.008 | 0.114 | |
| GeneColorSet-class | 0.128 | 0.007 | 0.136 | |
| GeneIdentifierType-class | 0.119 | 0.010 | 0.129 | |
| GeneIdentifierType-constructors | 0.175 | 0.007 | 0.185 | |
| GeneSet-class | 0.102 | 0.006 | 0.111 | |
| GeneSet-methods | 0.071 | 0.007 | 0.077 | |
| GeneSetCollection-class | 0.007 | 0.000 | 0.007 | |
| GeneSetCollection-methods | 3.457 | 0.246 | 3.731 | |
| OBOCollection-class | 0.077 | 0.007 | 0.087 | |
| getOBOCollection | 0.141 | 0.012 | 0.157 | |
| getObjects | 0.019 | 0.002 | 0.020 | |
| goSlim-methods | 0.698 | 0.043 | 0.750 | |
| incidence-methods | 0.007 | 0.000 | 0.007 | |