| Back to Multiple platform build/check report for BioC 3.10 |
|
This page was generated on 2020-04-15 12:06:57 -0400 (Wed, 15 Apr 2020).
| Package 462/1823 | Hostname | OS / Arch | INSTALL | BUILD | CHECK | BUILD BIN | ||||||
| DirichletMultinomial 1.28.0 Martin Morgan
| malbec1 | Linux (Ubuntu 18.04.4 LTS) / x86_64 | [ OK ] | OK | OK | |||||||
| tokay1 | Windows Server 2012 R2 Standard / x64 | OK | OK | OK | OK | |||||||
| merida1 | OS X 10.11.6 El Capitan / x86_64 | OK | OK | OK | OK |
| Package: DirichletMultinomial |
| Version: 1.28.0 |
| Command: /home/biocbuild/bbs-3.10-bioc/R/bin/R CMD INSTALL DirichletMultinomial |
| StartedAt: 2020-04-14 18:08:50 -0400 (Tue, 14 Apr 2020) |
| EndedAt: 2020-04-14 18:08:57 -0400 (Tue, 14 Apr 2020) |
| EllapsedTime: 7.9 seconds |
| RetCode: 0 |
| Status: OK |
##############################################################################
##############################################################################
###
### Running command:
###
### /home/biocbuild/bbs-3.10-bioc/R/bin/R CMD INSTALL DirichletMultinomial
###
##############################################################################
##############################################################################
* installing to library ‘/home/biocbuild/bbs-3.10-bioc/R/library’
* installing *source* package ‘DirichletMultinomial’ ...
** using staged installation
** libs
gcc -I"/home/biocbuild/bbs-3.10-bioc/R/include" -DNDEBUG -I/usr/local/include `gsl-config --cflags` -DR_DIRICHLETMULTINOMIAL -fpic -g -O2 -Wall -c R_init_DirichletMultinomial.c -o R_init_DirichletMultinomial.o
gcc -I"/home/biocbuild/bbs-3.10-bioc/R/include" -DNDEBUG -I/usr/local/include `gsl-config --cflags` -DR_DIRICHLETMULTINOMIAL -fpic -g -O2 -Wall -c dirichlet_fit.c -o dirichlet_fit.o
gcc -I"/home/biocbuild/bbs-3.10-bioc/R/include" -DNDEBUG -I/usr/local/include `gsl-config --cflags` -DR_DIRICHLETMULTINOMIAL -fpic -g -O2 -Wall -c dirichlet_fit_main.c -o dirichlet_fit_main.o
dirichlet_fit_main.c: In function ‘hessian’:
dirichlet_fit_main.c:391:34: warning: ‘*’ in boolean context, suggest ‘&&’ instead [-Wint-in-bool-context]
adCJK0[j] += adPi[i] * n ? gsl_sf_psi(adAlpha[j] + n) : dPsiAlpha;
~~~~~~~~^~~
dirichlet_fit_main.c:393:33: warning: ‘*’ in boolean context, suggest ‘&&’ instead [-Wint-in-bool-context]
adCJK[j] += adPi[i] * n ? gsl_sf_psi_1(adAlpha[j] + n): dPsi1Alpha;
~~~~~~~~^~~
dirichlet_fit_main.c: In function ‘dirichlet_fit_main’:
dirichlet_fit_main.c:542:17: warning: variable ‘status’ set but not used [-Wunused-but-set-variable]
int signum, status;
^~~~~~
gcc -shared -L/home/biocbuild/bbs-3.10-bioc/R/lib -L/usr/local/lib -o DirichletMultinomial.so R_init_DirichletMultinomial.o dirichlet_fit.o dirichlet_fit_main.o -L/usr/lib/x86_64-linux-gnu -lgsl -lgslcblas -lm -L/home/biocbuild/bbs-3.10-bioc/R/lib -lR
installing to /home/biocbuild/bbs-3.10-bioc/R/library/00LOCK-DirichletMultinomial/00new/DirichletMultinomial/libs
** R
** data
** inst
** byte-compile and prepare package for lazy loading
** help
*** installing help indices
** building package indices
** installing vignettes
** testing if installed package can be loaded from temporary location
** checking absolute paths in shared objects and dynamic libraries
** testing if installed package can be loaded from final location
** testing if installed package keeps a record of temporary installation path
* DONE (DirichletMultinomial)