| Back to Multiple platform build/check report for BioC 3.10 |
|
This page was generated on 2020-04-15 12:26:43 -0400 (Wed, 15 Apr 2020).
| Package 461/1823 | Hostname | OS / Arch | INSTALL | BUILD | CHECK | BUILD BIN | ||||||
| Director 1.12.0 Katherine Icay
| malbec1 | Linux (Ubuntu 18.04.4 LTS) / x86_64 | OK | OK | OK | |||||||
| tokay1 | Windows Server 2012 R2 Standard / x64 | [ OK ] | TIMEOUT | skipped | skipped | |||||||
| merida1 | OS X 10.11.6 El Capitan / x86_64 | OK | OK | OK | OK |
| Package: Director |
| Version: 1.12.0 |
| Command: C:\cygwin\bin\curl.exe -O https://malbec1.bioconductor.org/BBS/3.10/bioc/src/contrib/Director_1.12.0.tar.gz && rm -rf Director.buildbin-libdir && mkdir Director.buildbin-libdir && C:\Users\biocbuild\bbs-3.10-bioc\R\bin\R.exe CMD INSTALL --merge-multiarch --build --library=Director.buildbin-libdir Director_1.12.0.tar.gz && C:\Users\biocbuild\bbs-3.10-bioc\R\bin\R.exe CMD INSTALL Director_1.12.0.zip && rm Director_1.12.0.tar.gz Director_1.12.0.zip |
| StartedAt: 2020-04-14 18:42:35 -0400 (Tue, 14 Apr 2020) |
| EndedAt: 2020-04-14 18:43:08 -0400 (Tue, 14 Apr 2020) |
| EllapsedTime: 33.9 seconds |
| RetCode: 0 |
| Status: OK |
##############################################################################
##############################################################################
###
### Running command:
###
### C:\cygwin\bin\curl.exe -O https://malbec1.bioconductor.org/BBS/3.10/bioc/src/contrib/Director_1.12.0.tar.gz && rm -rf Director.buildbin-libdir && mkdir Director.buildbin-libdir && C:\Users\biocbuild\bbs-3.10-bioc\R\bin\R.exe CMD INSTALL --merge-multiarch --build --library=Director.buildbin-libdir Director_1.12.0.tar.gz && C:\Users\biocbuild\bbs-3.10-bioc\R\bin\R.exe CMD INSTALL Director_1.12.0.zip && rm Director_1.12.0.tar.gz Director_1.12.0.zip
###
##############################################################################
##############################################################################
% Total % Received % Xferd Average Speed Time Time Time Current
Dload Upload Total Spent Left Speed
0 0 0 0 0 0 0 0 --:--:-- --:--:-- --:--:-- 0
100 334k 100 334k 0 0 7859k 0 --:--:-- --:--:-- --:--:-- 8795k
install for i386
* installing *source* package 'Director' ...
** using staged installation
** R
** data
*** moving datasets to lazyload DB
** inst
** byte-compile and prepare package for lazy loading
** help
*** installing help indices
converting help for package 'Director'
finding HTML links ... done
append2List html
createList html
drawSankey html
filterNumeric html
filterRelation html
filterSubset html
initSankey html
makeSankey html
mesenchymal html
poorprog html
writeSankey html
** building package indices
** installing vignettes
** testing if installed package can be loaded from temporary location
** testing if installed package can be loaded from final location
** testing if installed package keeps a record of temporary installation path
install for x64
* installing *source* package 'Director' ...
** testing if installed package can be loaded
* MD5 sums
packaged installation of 'Director' as Director_1.12.0.zip
* DONE (Director)
* installing to library 'C:/Users/biocbuild/bbs-3.10-bioc/R/library'
package 'Director' successfully unpacked and MD5 sums checked