| Back to Multiple platform build/check report for BioC 3.10 | 
 | 
This page was generated on 2020-04-15 12:27:22 -0400 (Wed, 15 Apr 2020).
| Package 447/1823 | Hostname | OS / Arch | INSTALL | BUILD | CHECK | BUILD BIN | ||||||
| DEsubs 1.12.0 Aristidis G. Vrahatis 
 | malbec1 | Linux (Ubuntu 18.04.4 LTS) / x86_64 | OK | OK | OK |  | ||||||
| tokay1 | Windows Server 2012 R2 Standard / x64 | OK | OK | OK | [ OK ] |  | ||||||
| merida1 | OS X 10.11.6 El Capitan / x86_64 | OK | OK | OK | OK |  | 
| Package: DEsubs | 
| Version: 1.12.0 | 
| Command: rm -rf DEsubs.buildbin-libdir && mkdir DEsubs.buildbin-libdir && C:\Users\biocbuild\bbs-3.10-bioc\R\bin\R.exe CMD INSTALL --merge-multiarch --build --library=DEsubs.buildbin-libdir DEsubs_1.12.0.tar.gz | 
| StartedAt: 2020-04-15 08:35:13 -0400 (Wed, 15 Apr 2020) | 
| EndedAt: 2020-04-15 08:35:55 -0400 (Wed, 15 Apr 2020) | 
| EllapsedTime: 42.0 seconds | 
| RetCode: 0 | 
| Status: OK | 
| PackageFile: DEsubs_1.12.0.zip | 
| PackageFileSize: 3.755 MiB | 
##############################################################################
##############################################################################
###
### Running command:
###
###   rm -rf DEsubs.buildbin-libdir && mkdir DEsubs.buildbin-libdir && C:\Users\biocbuild\bbs-3.10-bioc\R\bin\R.exe CMD INSTALL --merge-multiarch --build --library=DEsubs.buildbin-libdir DEsubs_1.12.0.tar.gz
###
##############################################################################
##############################################################################
install for i386
* installing *source* package 'DEsubs' ...
** using staged installation
** R
** inst
** byte-compile and prepare package for lazy loading
** help
*** installing help indices
  converting help for package 'DEsubs'
    finding HTML links ... done
    DEsubs                                  html  
    geneVisualization                       html  
    organismVisualization                   html  
    subpathwayToGraph                       html  
    subpathwayTypes                         html  
    subpathwayVisualization                 html  
** building package indices
** installing vignettes
** testing if installed package can be loaded from temporary location
** testing if installed package can be loaded from final location
** testing if installed package keeps a record of temporary installation path
install for x64
* installing *source* package 'DEsubs' ...
** testing if installed package can be loaded
* MD5 sums
packaged installation of 'DEsubs' as DEsubs_1.12.0.zip
* DONE (DEsubs)