| Back to Multiple platform build/check report for BioC 3.10 |
|
This page was generated on 2020-04-15 12:36:09 -0400 (Wed, 15 Apr 2020).
| Package 443/1823 | Hostname | OS / Arch | INSTALL | BUILD | CHECK | BUILD BIN | ||||||
| DESeq 1.38.0 Simon Anders
| malbec1 | Linux (Ubuntu 18.04.4 LTS) / x86_64 | OK | OK | OK | |||||||
| tokay1 | Windows Server 2012 R2 Standard / x64 | OK | OK | OK | OK | |||||||
| merida1 | OS X 10.11.6 El Capitan / x86_64 | OK | OK | OK | [ OK ] |
| Package: DESeq |
| Version: 1.38.0 |
| Command: rm -rf DESeq.buildbin-libdir && mkdir DESeq.buildbin-libdir && /Users/biocbuild/BBS/utils/build-universal.sh DESeq_1.38.0.tar.gz /Library/Frameworks/R.framework/Versions/Current/Resources/bin/R DESeq.buildbin-libdir |
| StartedAt: 2020-04-15 07:17:40 -0400 (Wed, 15 Apr 2020) |
| EndedAt: 2020-04-15 07:18:27 -0400 (Wed, 15 Apr 2020) |
| EllapsedTime: 47.1 seconds |
| RetCode: 0 |
| Status: OK |
| PackageFile: DESeq_1.38.0.tgz |
| PackageFileSize: 2.127 MiB |
##############################################################################
##############################################################################
###
### Running command:
###
### rm -rf DESeq.buildbin-libdir && mkdir DESeq.buildbin-libdir && /Users/biocbuild/BBS/utils/build-universal.sh DESeq_1.38.0.tar.gz /Library/Frameworks/R.framework/Versions/Current/Resources/bin/R DESeq.buildbin-libdir
###
##############################################################################
##############################################################################
>>>>>>>
>>>>>>> INSTALLATION WITH 'R CMD INSTALL --preclean --no-multiarch --library=DESeq.buildbin-libdir DESeq_1.38.0.tar.gz'
>>>>>>>
* installing *source* package ‘DESeq’ ...
** using staged installation
** libs
clang -I"/Library/Frameworks/R.framework/Resources/include" -DNDEBUG -isysroot /Library/Developer/CommandLineTools/SDKs/MacOSX.sdk -I/usr/local/include -fPIC -Wall -g -O2 -c pval.c -o pval.o
pval.c:26:11: warning: unused variable 'esttotalperlength' [-Wunused-variable]
double esttotalperlength = total/2;
^
1 warning generated.
clang -dynamiclib -Wl,-headerpad_max_install_names -undefined dynamic_lookup -single_module -multiply_defined suppress -L/Library/Frameworks/R.framework/Resources/lib -L/usr/local/lib -o DESeq.so pval.o -F/Library/Frameworks/R.framework/.. -framework R -Wl,-framework -Wl,CoreFoundation
installing to /Users/biocbuild/bbs-3.10-bioc/meat/DESeq.buildbin-libdir/00LOCK-DESeq/00new/DESeq/libs
** R
** inst
** byte-compile and prepare package for lazy loading
** help
*** installing help indices
** building package indices
** installing vignettes
** testing if installed package can be loaded from temporary location
** checking absolute paths in shared objects and dynamic libraries
** testing if installed package can be loaded from final location
** testing if installed package keeps a record of temporary installation path
* DONE (DESeq)
>>>>>>>
>>>>>>> FIXING LINKS FOR DESeq.buildbin-libdir/DESeq/libs//DESeq.so
>>>>>>>
install_name_tool -change "/usr/local/lib/libgcc_s.1.dylib" "/Library/Frameworks/R.framework/Versions/3.6/Resources/lib/libgcc_s.1.dylib" "DESeq.buildbin-libdir/DESeq/libs//DESeq.so"
install_name_tool -change "/usr/local/lib/libgfortran.3.dylib" "/Library/Frameworks/R.framework/Versions/3.6/Resources/lib/libgfortran.3.dylib" "DESeq.buildbin-libdir/DESeq/libs//DESeq.so"
install_name_tool -change "/usr/local/lib/libreadline.5.2.dylib" "/Library/Frameworks/R.framework/Versions/3.6/Resources/lib/libreadline.5.2.dylib" "DESeq.buildbin-libdir/DESeq/libs//DESeq.so"
install_name_tool -change "/usr/local/lib/libreadline.dylib" "/Library/Frameworks/R.framework/Versions/3.6/Resources/lib/libreadline.dylib" "DESeq.buildbin-libdir/DESeq/libs//DESeq.so"
install_name_tool -change "/usr/local/lib/libquadmath.0.dylib" "/Library/Frameworks/R.framework/Versions/3.6/Resources/lib/libquadmath.0.dylib" "DESeq.buildbin-libdir/DESeq/libs//DESeq.so"