| Back to Multiple platform build/check report for BioC 3.10 |
|
This page was generated on 2020-04-15 12:15:06 -0400 (Wed, 15 Apr 2020).
| Package 306/1823 | Hostname | OS / Arch | INSTALL | BUILD | CHECK | BUILD BIN | ||||||
| CluMSID 1.2.1 Tobias Depke
| malbec1 | Linux (Ubuntu 18.04.4 LTS) / x86_64 | OK | OK | [ OK ] | |||||||
| tokay1 | Windows Server 2012 R2 Standard / x64 | OK | OK | OK | OK | |||||||
| merida1 | OS X 10.11.6 El Capitan / x86_64 | OK | OK | OK | OK |
| Package: CluMSID |
| Version: 1.2.1 |
| Command: /home/biocbuild/bbs-3.10-bioc/R/bin/R CMD check --install=check:CluMSID.install-out.txt --library=/home/biocbuild/bbs-3.10-bioc/R/library --no-vignettes --timings CluMSID_1.2.1.tar.gz |
| StartedAt: 2020-04-15 06:13:02 -0400 (Wed, 15 Apr 2020) |
| EndedAt: 2020-04-15 06:15:55 -0400 (Wed, 15 Apr 2020) |
| EllapsedTime: 172.7 seconds |
| RetCode: 0 |
| Status: OK |
| CheckDir: CluMSID.Rcheck |
| Warnings: 0 |
##############################################################################
##############################################################################
###
### Running command:
###
### /home/biocbuild/bbs-3.10-bioc/R/bin/R CMD check --install=check:CluMSID.install-out.txt --library=/home/biocbuild/bbs-3.10-bioc/R/library --no-vignettes --timings CluMSID_1.2.1.tar.gz
###
##############################################################################
##############################################################################
* using log directory ‘/home/biocbuild/bbs-3.10-bioc/meat/CluMSID.Rcheck’
* using R version 3.6.3 (2020-02-29)
* using platform: x86_64-pc-linux-gnu (64-bit)
* using session charset: UTF-8
* using option ‘--no-vignettes’
* checking for file ‘CluMSID/DESCRIPTION’ ... OK
* checking extension type ... Package
* this is package ‘CluMSID’ version ‘1.2.1’
* package encoding: UTF-8
* checking package namespace information ... OK
* checking package dependencies ... OK
* checking if this is a source package ... OK
* checking if there is a namespace ... OK
* checking for hidden files and directories ... OK
* checking for portable file names ... OK
* checking for sufficient/correct file permissions ... OK
* checking whether package ‘CluMSID’ can be installed ... OK
* checking installed package size ... OK
* checking package directory ... OK
* checking ‘build’ directory ... OK
* checking DESCRIPTION meta-information ... OK
* checking top-level files ... OK
* checking for left-over files ... OK
* checking index information ... OK
* checking package subdirectories ... OK
* checking R files for non-ASCII characters ... OK
* checking R files for syntax errors ... OK
* checking whether the package can be loaded ... OK
* checking whether the package can be loaded with stated dependencies ... OK
* checking whether the package can be unloaded cleanly ... OK
* checking whether the namespace can be loaded with stated dependencies ... OK
* checking whether the namespace can be unloaded cleanly ... OK
* checking dependencies in R code ... OK
* checking S3 generic/method consistency ... OK
* checking replacement functions ... OK
* checking foreign function calls ... OK
* checking R code for possible problems ... OK
* checking Rd files ... OK
* checking Rd metadata ... OK
* checking Rd cross-references ... OK
* checking for missing documentation entries ... OK
* checking for code/documentation mismatches ... OK
* checking Rd \usage sections ... OK
* checking Rd contents ... OK
* checking for unstated dependencies in examples ... OK
* checking files in ‘vignettes’ ... OK
* checking examples ... OK
Examples with CPU or elapsed time > 5s
user system elapsed
mergeMS2spectra 7.7 0.012 7.774
* checking for unstated dependencies in ‘tests’ ... OK
* checking tests ...
Running ‘testthat.R’
OK
* checking for unstated dependencies in vignettes ... OK
* checking package vignettes in ‘inst/doc’ ... OK
* checking running R code from vignettes ... SKIPPED
* checking re-building of vignette outputs ... SKIPPED
* checking PDF version of manual ... OK
* DONE
Status: OK
CluMSID.Rcheck/00install.out
############################################################################## ############################################################################## ### ### Running command: ### ### /home/biocbuild/bbs-3.10-bioc/R/bin/R CMD INSTALL CluMSID ### ############################################################################## ############################################################################## * installing to library ‘/home/biocbuild/bbs-3.10-bioc/R/library’ * installing *source* package ‘CluMSID’ ... ** using staged installation ** R ** byte-compile and prepare package for lazy loading ** help *** installing help indices ** building package indices ** installing vignettes ** testing if installed package can be loaded from temporary location ** testing if installed package can be loaded from final location ** testing if installed package keeps a record of temporary installation path * DONE (CluMSID)
CluMSID.Rcheck/tests/testthat.Rout
R version 3.6.3 (2020-02-29) -- "Holding the Windsock"
Copyright (C) 2020 The R Foundation for Statistical Computing
Platform: x86_64-pc-linux-gnu (64-bit)
R is free software and comes with ABSOLUTELY NO WARRANTY.
You are welcome to redistribute it under certain conditions.
Type 'license()' or 'licence()' for distribution details.
R is a collaborative project with many contributors.
Type 'contributors()' for more information and
'citation()' on how to cite R or R packages in publications.
Type 'demo()' for some demos, 'help()' for on-line help, or
'help.start()' for an HTML browser interface to help.
Type 'q()' to quit R.
> library(testthat)
> library(CluMSID)
>
> test_check("CluMSID")
══ testthat results ═══════════════════════════════════════════════════════════
[ OK: 16 | SKIPPED: 0 | WARNINGS: 0 | FAILED: 0 ]
>
> proc.time()
user system elapsed
16.316 0.184 16.609
CluMSID.Rcheck/CluMSID-Ex.timings
| name | user | system | elapsed | |
| Featurelist | 0.028 | 0.000 | 0.532 | |
| HCplot | 0.316 | 0.000 | 0.386 | |
| HCtbl | 0.016 | 0.000 | 0.015 | |
| MDSplot | 0.644 | 0.016 | 0.662 | |
| OPTICSplot | 0.032 | 0.000 | 0.034 | |
| OPTICStbl | 0.448 | 0.000 | 0.446 | |
| accessors | 0.088 | 0.000 | 0.096 | |
| addAnnotations | 0.096 | 0.052 | 0.155 | |
| as.MS2spectrum | 0.196 | 0.008 | 0.240 | |
| cossim | 0.032 | 0.000 | 0.030 | |
| distanceMatrix | 1.068 | 0.052 | 1.145 | |
| extractMS2spectra | 1.724 | 0.024 | 1.849 | |
| extractPseudospectra | 0.936 | 0.024 | 0.981 | |
| findFragment | 0.032 | 0.000 | 0.034 | |
| findNL | 0.032 | 0.000 | 0.035 | |
| getSimilarities | 4.544 | 0.000 | 4.558 | |
| getSpectrum | 0.064 | 0.004 | 0.067 | |
| mergeMS2spectra | 7.700 | 0.012 | 7.774 | |
| networkplot | 0.276 | 0.004 | 0.284 | |
| specplot | 0.012 | 0.004 | 0.016 | |
| splitPolarities | 1.252 | 0.008 | 1.262 | |
| writeFeaturelist | 0.020 | 0.004 | 0.024 | |