| Back to Multiple platform build/check report for BioC 3.10 |
|
This page was generated on 2020-04-15 12:31:49 -0400 (Wed, 15 Apr 2020).
| Package 328/1823 | Hostname | OS / Arch | INSTALL | BUILD | CHECK | BUILD BIN | ||||||
| CNVRanger 1.2.2 Ludwig Geistlinger
| malbec1 | Linux (Ubuntu 18.04.4 LTS) / x86_64 | OK | OK | OK | |||||||
| tokay1 | Windows Server 2012 R2 Standard / x64 | OK | OK | OK | [ OK ] | |||||||
| merida1 | OS X 10.11.6 El Capitan / x86_64 | OK | OK | OK | OK |
| Package: CNVRanger |
| Version: 1.2.2 |
| Command: rm -rf CNVRanger.buildbin-libdir && mkdir CNVRanger.buildbin-libdir && C:\Users\biocbuild\bbs-3.10-bioc\R\bin\R.exe CMD INSTALL --merge-multiarch --build --library=CNVRanger.buildbin-libdir CNVRanger_1.2.2.tar.gz |
| StartedAt: 2020-04-15 08:27:19 -0400 (Wed, 15 Apr 2020) |
| EndedAt: 2020-04-15 08:27:54 -0400 (Wed, 15 Apr 2020) |
| EllapsedTime: 35.3 seconds |
| RetCode: 0 |
| Status: OK |
| PackageFile: CNVRanger_1.2.2.zip |
| PackageFileSize: 1.841 MiB |
##############################################################################
##############################################################################
###
### Running command:
###
### rm -rf CNVRanger.buildbin-libdir && mkdir CNVRanger.buildbin-libdir && C:\Users\biocbuild\bbs-3.10-bioc\R\bin\R.exe CMD INSTALL --merge-multiarch --build --library=CNVRanger.buildbin-libdir CNVRanger_1.2.2.tar.gz
###
##############################################################################
##############################################################################
install for i386
* installing *source* package 'CNVRanger' ...
** using staged installation
** R
** inst
** byte-compile and prepare package for lazy loading
** help
*** installing help indices
converting help for package 'CNVRanger'
finding HTML links ... done
cnvEQTL html
finding level-2 HTML links ... done
cnvGWAS html
generateGDS html
importLrrBaf html
plotEQTL html
plotManhattan html
plotRecurrentRegions html
populationRanges html
setupCnvGWAS html
** building package indices
** installing vignettes
** testing if installed package can be loaded from temporary location
** testing if installed package can be loaded from final location
** testing if installed package keeps a record of temporary installation path
install for x64
* installing *source* package 'CNVRanger' ...
** testing if installed package can be loaded
* MD5 sums
packaged installation of 'CNVRanger' as CNVRanger_1.2.2.zip
* DONE (CNVRanger)