| Back to Multiple platform build/check report for BioC 3.10 |
|
This page was generated on 2020-04-15 12:16:03 -0400 (Wed, 15 Apr 2020).
| Package 72/1823 | Hostname | OS / Arch | INSTALL | BUILD | CHECK | BUILD BIN | ||||||
| APAlyzer 1.0.0 Ruijia Wang
| malbec1 | Linux (Ubuntu 18.04.4 LTS) / x86_64 | OK | OK | [ OK ] | |||||||
| tokay1 | Windows Server 2012 R2 Standard / x64 | OK | OK | OK | OK | |||||||
| merida1 | OS X 10.11.6 El Capitan / x86_64 | OK | OK | OK | OK |
| Package: APAlyzer |
| Version: 1.0.0 |
| Command: /home/biocbuild/bbs-3.10-bioc/R/bin/R CMD check --install=check:APAlyzer.install-out.txt --library=/home/biocbuild/bbs-3.10-bioc/R/library --no-vignettes --timings APAlyzer_1.0.0.tar.gz |
| StartedAt: 2020-04-15 06:46:33 -0400 (Wed, 15 Apr 2020) |
| EndedAt: 2020-04-15 06:52:27 -0400 (Wed, 15 Apr 2020) |
| EllapsedTime: 354.0 seconds |
| RetCode: 0 |
| Status: OK |
| CheckDir: APAlyzer.Rcheck |
| Warnings: 0 |
##############################################################################
##############################################################################
###
### Running command:
###
### /home/biocbuild/bbs-3.10-bioc/R/bin/R CMD check --install=check:APAlyzer.install-out.txt --library=/home/biocbuild/bbs-3.10-bioc/R/library --no-vignettes --timings APAlyzer_1.0.0.tar.gz
###
##############################################################################
##############################################################################
* using log directory ‘/home/biocbuild/bbs-3.10-bioc/meat/APAlyzer.Rcheck’
* using R version 3.6.3 (2020-02-29)
* using platform: x86_64-pc-linux-gnu (64-bit)
* using session charset: UTF-8
* using option ‘--no-vignettes’
* checking for file ‘APAlyzer/DESCRIPTION’ ... OK
* checking extension type ... Package
* this is package ‘APAlyzer’ version ‘1.0.0’
* package encoding: UTF-8
* checking package namespace information ... OK
* checking package dependencies ... OK
* checking if this is a source package ... OK
* checking if there is a namespace ... OK
* checking for hidden files and directories ... NOTE
Found the following hidden files and directories:
.BBSoptions
These were most likely included in error. See section ‘Package
structure’ in the ‘Writing R Extensions’ manual.
* checking for portable file names ... OK
* checking for sufficient/correct file permissions ... OK
* checking whether package ‘APAlyzer’ can be installed ... OK
* checking installed package size ... OK
* checking package directory ... OK
* checking ‘build’ directory ... OK
* checking DESCRIPTION meta-information ... OK
* checking top-level files ... OK
* checking for left-over files ... OK
* checking index information ... OK
* checking package subdirectories ... OK
* checking R files for non-ASCII characters ... OK
* checking R files for syntax errors ... OK
* checking whether the package can be loaded ... OK
* checking whether the package can be loaded with stated dependencies ... OK
* checking whether the package can be unloaded cleanly ... OK
* checking whether the namespace can be loaded with stated dependencies ... OK
* checking whether the namespace can be unloaded cleanly ... OK
* checking dependencies in R code ... OK
* checking S3 generic/method consistency ... OK
* checking replacement functions ... OK
* checking foreign function calls ... OK
* checking R code for possible problems ... OK
* checking Rd files ... OK
* checking Rd metadata ... OK
* checking Rd cross-references ... OK
* checking for missing documentation entries ... OK
* checking for code/documentation mismatches ... OK
* checking Rd \usage sections ... OK
* checking Rd contents ... OK
* checking for unstated dependencies in examples ... OK
* checking files in ‘vignettes’ ... OK
* checking examples ... OK
Examples with CPU or elapsed time > 5s
user system elapsed
PASEXP_3UTR 23.932 0.204 24.559
PASEXP_IPA 23.100 0.428 24.160
GENEXP_CDS 13.708 0.564 15.525
* checking for unstated dependencies in ‘tests’ ... OK
* checking tests ...
Running ‘runTests.R’
Running ‘test_APAlyzer.R’
OK
* checking for unstated dependencies in vignettes ... OK
* checking package vignettes in ‘inst/doc’ ... OK
* checking running R code from vignettes ... SKIPPED
* checking re-building of vignette outputs ... SKIPPED
* checking PDF version of manual ... OK
* DONE
Status: 1 NOTE
See
‘/home/biocbuild/bbs-3.10-bioc/meat/APAlyzer.Rcheck/00check.log’
for details.
APAlyzer.Rcheck/00install.out
############################################################################## ############################################################################## ### ### Running command: ### ### /home/biocbuild/bbs-3.10-bioc/R/bin/R CMD INSTALL APAlyzer ### ############################################################################## ############################################################################## * installing to library ‘/home/biocbuild/bbs-3.10-bioc/R/library’ * installing *source* package ‘APAlyzer’ ... ** using staged installation ** R ** inst ** byte-compile and prepare package for lazy loading ** help *** installing help indices ** building package indices ** installing vignettes ** testing if installed package can be loaded from temporary location ** testing if installed package can be loaded from final location ** testing if installed package keeps a record of temporary installation path * DONE (APAlyzer)
APAlyzer.Rcheck/tests/runTests.Rout
R version 3.6.3 (2020-02-29) -- "Holding the Windsock"
Copyright (C) 2020 The R Foundation for Statistical Computing
Platform: x86_64-pc-linux-gnu (64-bit)
R is free software and comes with ABSOLUTELY NO WARRANTY.
You are welcome to redistribute it under certain conditions.
Type 'license()' or 'licence()' for distribution details.
R is a collaborative project with many contributors.
Type 'contributors()' for more information and
'citation()' on how to cite R or R packages in publications.
Type 'demo()' for some demos, 'help()' for on-line help, or
'help.start()' for an HTML browser interface to help.
Type 'q()' to quit R.
> require("APAlyzer") || stop("unable to load Package:APAlyzer")
Loading required package: APAlyzer
[1] TRUE
> require("GenomicRanges") || stop("unable to load Package:GenomicRanges")
Loading required package: GenomicRanges
Loading required package: stats4
Loading required package: BiocGenerics
Loading required package: parallel
Attaching package: 'BiocGenerics'
The following objects are masked from 'package:parallel':
clusterApply, clusterApplyLB, clusterCall, clusterEvalQ,
clusterExport, clusterMap, parApply, parCapply, parLapply,
parLapplyLB, parRapply, parSapply, parSapplyLB
The following objects are masked from 'package:stats':
IQR, mad, sd, var, xtabs
The following objects are masked from 'package:base':
Filter, Find, Map, Position, Reduce, anyDuplicated, append,
as.data.frame, basename, cbind, colnames, dirname, do.call,
duplicated, eval, evalq, get, grep, grepl, intersect, is.unsorted,
lapply, mapply, match, mget, order, paste, pmax, pmax.int, pmin,
pmin.int, rank, rbind, rownames, sapply, setdiff, sort, table,
tapply, union, unique, unsplit, which, which.max, which.min
Loading required package: S4Vectors
Attaching package: 'S4Vectors'
The following object is masked from 'package:base':
expand.grid
Loading required package: IRanges
Loading required package: GenomeInfoDb
[1] TRUE
> require("GenomicFeatures") || stop("unable to load Package:GenomicFeatures")
Loading required package: GenomicFeatures
Loading required package: AnnotationDbi
Loading required package: Biobase
Welcome to Bioconductor
Vignettes contain introductory material; view with
'browseVignettes()'. To cite Bioconductor, see
'citation("Biobase")', and for packages 'citation("pkgname")'.
[1] TRUE
> require("GenomicAlignments") || stop("unable to load Package:GenomicAlignments")
Loading required package: GenomicAlignments
Loading required package: SummarizedExperiment
Loading required package: DelayedArray
Loading required package: matrixStats
Attaching package: 'matrixStats'
The following objects are masked from 'package:Biobase':
anyMissing, rowMedians
Loading required package: BiocParallel
Attaching package: 'DelayedArray'
The following objects are masked from 'package:matrixStats':
colMaxs, colMins, colRanges, rowMaxs, rowMins, rowRanges
The following objects are masked from 'package:base':
aperm, apply, rowsum
Loading required package: Biostrings
Loading required package: XVector
Attaching package: 'Biostrings'
The following object is masked from 'package:base':
strsplit
Loading required package: Rsamtools
[1] TRUE
> require("DESeq") || stop("unable to load Package:DESeq")
Loading required package: DESeq
Loading required package: locfit
locfit 1.5-9.4 2020-03-24
Loading required package: lattice
Welcome to 'DESeq'. For improved performance, usability and
functionality, please consider migrating to 'DESeq2'.
[1] TRUE
> require("SummarizedExperiment") || stop("unable to load Package:SummarizedExperiment")
[1] TRUE
> require("Rsubread") || stop("unable to load Package:Rsubread")
Loading required package: Rsubread
[1] TRUE
> require("stats") || stop("unable to load Package:stats")
[1] TRUE
> require("testthat") || stop("unable to load testthat")
Loading required package: testthat
[1] TRUE
> test_check("APAlyzer")
[1] "SRR316184, Strand: forward, finished"
[1] "SRR316185, Strand: forward, finished"
[1] "SRR316186, Strand: forward, finished"
[1] "SRR316187, Strand: forward, finished"
[1] "SRR316188, Strand: forward, finished"
[1] "SRR316189, Strand: forward, finished"
========== _____ _ _ ____ _____ ______ _____
===== / ____| | | | _ \| __ \| ____| /\ | __ \
===== | (___ | | | | |_) | |__) | |__ / \ | | | |
==== \___ \| | | | _ <| _ /| __| / /\ \ | | | |
==== ____) | |__| | |_) | | \ \| |____ / ____ \| |__| |
========== |_____/ \____/|____/|_| \_\______/_/ \_\_____/
Rsubread 2.0.1
//========================== featureCounts setting ===========================\\
|| ||
|| Input files : 1 BAM file ||
|| o SRR316184.bam ||
|| ||
|| Annotation : R data.frame ||
|| Dir for temp files : . ||
|| Threads : 1 ||
|| Level : meta-feature level ||
|| Paired-end : no ||
|| Multimapping reads : counted ||
|| Multi-overlapping reads : counted ||
|| Min overlapping bases : 1 ||
|| ||
\\============================================================================//
//================================= Running ==================================\\
|| ||
|| Load annotation file .Rsubread_UserProvidedAnnotation_pid3773 ... ||
|| Features : 536 ||
|| Meta-features : 536 ||
|| Chromosomes/contigs : 1 ||
|| ||
|| Process BAM file SRR316184.bam... ||
|| Strand specific : stranded ||
|| Single-end reads are included. ||
|| Total alignments : 422429 ||
|| Successfully assigned alignments : 6262 (1.5%) ||
|| Running time : 0.01 minutes ||
|| ||
|| Write the final count table. ||
|| Write the read assignment summary. ||
|| ||
\\============================================================================//
========== _____ _ _ ____ _____ ______ _____
===== / ____| | | | _ \| __ \| ____| /\ | __ \
===== | (___ | | | | |_) | |__) | |__ / \ | | | |
==== \___ \| | | | _ <| _ /| __| / /\ \ | | | |
==== ____) | |__| | |_) | | \ \| |____ / ____ \| |__| |
========== |_____/ \____/|____/|_| \_\______/_/ \_\_____/
Rsubread 2.0.1
//========================== featureCounts setting ===========================\\
|| ||
|| Input files : 1 BAM file ||
|| o SRR316184.bam ||
|| ||
|| Annotation : R data.frame ||
|| Dir for temp files : . ||
|| Threads : 1 ||
|| Level : meta-feature level ||
|| Paired-end : no ||
|| Multimapping reads : counted ||
|| Multi-overlapping reads : counted ||
|| Min overlapping bases : 1 ||
|| ||
\\============================================================================//
//================================= Running ==================================\\
|| ||
|| Load annotation file .Rsubread_UserProvidedAnnotation_pid3773 ... ||
|| Features : 536 ||
|| Meta-features : 536 ||
|| Chromosomes/contigs : 1 ||
|| ||
|| Process BAM file SRR316184.bam... ||
|| Strand specific : stranded ||
|| Single-end reads are included. ||
|| Total alignments : 422429 ||
|| Successfully assigned alignments : 6258 (1.5%) ||
|| Running time : 0.01 minutes ||
|| ||
|| Write the final count table. ||
|| Write the read assignment summary. ||
|| ||
\\============================================================================//
========== _____ _ _ ____ _____ ______ _____
===== / ____| | | | _ \| __ \| ____| /\ | __ \
===== | (___ | | | | |_) | |__) | |__ / \ | | | |
==== \___ \| | | | _ <| _ /| __| / /\ \ | | | |
==== ____) | |__| | |_) | | \ \| |____ / ____ \| |__| |
========== |_____/ \____/|____/|_| \_\______/_/ \_\_____/
Rsubread 2.0.1
//========================== featureCounts setting ===========================\\
|| ||
|| Input files : 1 BAM file ||
|| o SRR316184.bam ||
|| ||
|| Annotation : R data.frame ||
|| Dir for temp files : . ||
|| Threads : 1 ||
|| Level : meta-feature level ||
|| Paired-end : no ||
|| Multimapping reads : counted ||
|| Multi-overlapping reads : counted ||
|| Min overlapping bases : 1 ||
|| ||
\\============================================================================//
//================================= Running ==================================\\
|| ||
|| Load annotation file .Rsubread_UserProvidedAnnotation_pid3773 ... ||
|| Features : 222 ||
|| Meta-features : 222 ||
|| Chromosomes/contigs : 1 ||
|| ||
|| Process BAM file SRR316184.bam... ||
|| Strand specific : stranded ||
|| Single-end reads are included. ||
|| Total alignments : 422429 ||
|| Successfully assigned alignments : 22878 (5.4%) ||
|| Running time : 0.01 minutes ||
|| ||
|| Write the final count table. ||
|| Write the read assignment summary. ||
|| ||
\\============================================================================//
[1] "SRR316184, Strand: forward, finished"
========== _____ _ _ ____ _____ ______ _____
===== / ____| | | | _ \| __ \| ____| /\ | __ \
===== | (___ | | | | |_) | |__) | |__ / \ | | | |
==== \___ \| | | | _ <| _ /| __| / /\ \ | | | |
==== ____) | |__| | |_) | | \ \| |____ / ____ \| |__| |
========== |_____/ \____/|____/|_| \_\______/_/ \_\_____/
Rsubread 2.0.1
//========================== featureCounts setting ===========================\\
|| ||
|| Input files : 1 BAM file ||
|| o SRR316185.bam ||
|| ||
|| Annotation : R data.frame ||
|| Dir for temp files : . ||
|| Threads : 1 ||
|| Level : meta-feature level ||
|| Paired-end : no ||
|| Multimapping reads : counted ||
|| Multi-overlapping reads : counted ||
|| Min overlapping bases : 1 ||
|| ||
\\============================================================================//
//================================= Running ==================================\\
|| ||
|| Load annotation file .Rsubread_UserProvidedAnnotation_pid3773 ... ||
|| Features : 536 ||
|| Meta-features : 536 ||
|| Chromosomes/contigs : 1 ||
|| ||
|| Process BAM file SRR316185.bam... ||
|| Strand specific : stranded ||
|| Single-end reads are included. ||
|| Total alignments : 437626 ||
|| Successfully assigned alignments : 5390 (1.2%) ||
|| Running time : 0.01 minutes ||
|| ||
|| Write the final count table. ||
|| Write the read assignment summary. ||
|| ||
\\============================================================================//
========== _____ _ _ ____ _____ ______ _____
===== / ____| | | | _ \| __ \| ____| /\ | __ \
===== | (___ | | | | |_) | |__) | |__ / \ | | | |
==== \___ \| | | | _ <| _ /| __| / /\ \ | | | |
==== ____) | |__| | |_) | | \ \| |____ / ____ \| |__| |
========== |_____/ \____/|____/|_| \_\______/_/ \_\_____/
Rsubread 2.0.1
//========================== featureCounts setting ===========================\\
|| ||
|| Input files : 1 BAM file ||
|| o SRR316185.bam ||
|| ||
|| Annotation : R data.frame ||
|| Dir for temp files : . ||
|| Threads : 1 ||
|| Level : meta-feature level ||
|| Paired-end : no ||
|| Multimapping reads : counted ||
|| Multi-overlapping reads : counted ||
|| Min overlapping bases : 1 ||
|| ||
\\============================================================================//
//================================= Running ==================================\\
|| ||
|| Load annotation file .Rsubread_UserProvidedAnnotation_pid3773 ... ||
|| Features : 536 ||
|| Meta-features : 536 ||
|| Chromosomes/contigs : 1 ||
|| ||
|| Process BAM file SRR316185.bam... ||
|| Strand specific : stranded ||
|| Single-end reads are included. ||
|| Total alignments : 437626 ||
|| Successfully assigned alignments : 5387 (1.2%) ||
|| Running time : 0.02 minutes ||
|| ||
|| Write the final count table. ||
|| Write the read assignment summary. ||
|| ||
\\============================================================================//
========== _____ _ _ ____ _____ ______ _____
===== / ____| | | | _ \| __ \| ____| /\ | __ \
===== | (___ | | | | |_) | |__) | |__ / \ | | | |
==== \___ \| | | | _ <| _ /| __| / /\ \ | | | |
==== ____) | |__| | |_) | | \ \| |____ / ____ \| |__| |
========== |_____/ \____/|____/|_| \_\______/_/ \_\_____/
Rsubread 2.0.1
//========================== featureCounts setting ===========================\\
|| ||
|| Input files : 1 BAM file ||
|| o SRR316185.bam ||
|| ||
|| Annotation : R data.frame ||
|| Dir for temp files : . ||
|| Threads : 1 ||
|| Level : meta-feature level ||
|| Paired-end : no ||
|| Multimapping reads : counted ||
|| Multi-overlapping reads : counted ||
|| Min overlapping bases : 1 ||
|| ||
\\============================================================================//
//================================= Running ==================================\\
|| ||
|| Load annotation file .Rsubread_UserProvidedAnnotation_pid3773 ... ||
|| Features : 222 ||
|| Meta-features : 222 ||
|| Chromosomes/contigs : 1 ||
|| ||
|| Process BAM file SRR316185.bam... ||
|| Strand specific : stranded ||
|| Single-end reads are included. ||
|| Total alignments : 437626 ||
|| Successfully assigned alignments : 23378 (5.3%) ||
|| Running time : 0.01 minutes ||
|| ||
|| Write the final count table. ||
|| Write the read assignment summary. ||
|| ||
\\============================================================================//
[1] "SRR316185, Strand: forward, finished"
══ testthat results ═══════════════════════════════════════════════════════════
[ OK: 6 | SKIPPED: 0 | WARNINGS: 0 | FAILED: 0 ]
>
> proc.time()
user system elapsed
44.168 1.052 45.519
APAlyzer.Rcheck/tests/test_APAlyzer.Rout
R version 3.6.3 (2020-02-29) -- "Holding the Windsock"
Copyright (C) 2020 The R Foundation for Statistical Computing
Platform: x86_64-pc-linux-gnu (64-bit)
R is free software and comes with ABSOLUTELY NO WARRANTY.
You are welcome to redistribute it under certain conditions.
Type 'license()' or 'licence()' for distribution details.
R is a collaborative project with many contributors.
Type 'contributors()' for more information and
'citation()' on how to cite R or R packages in publications.
Type 'demo()' for some demos, 'help()' for on-line help, or
'help.start()' for an HTML browser interface to help.
Type 'q()' to quit R.
> test_judge_rep <- function(){
+ checkEquals(.judge_rep("CON1", "TRT1"), 'single')
+ }
>
> test_absMIN <- function(){
+ checkEquals(.absMIN(c(-1, 2, 3, 4, -10)), 1)
+ }
>
> proc.time()
user system elapsed
0.192 0.012 0.204
APAlyzer.Rcheck/APAlyzer-Ex.timings
| name | user | system | elapsed | |
| APAdiff | 2.052 | 0.016 | 2.102 | |
| GENEXP_CDS | 13.708 | 0.564 | 15.525 | |
| PASEXP_3UTR | 23.932 | 0.204 | 24.559 | |
| PASEXP_IPA | 23.100 | 0.428 | 24.160 | |
| REF3UTR | 0.128 | 0.000 | 0.126 | |
| REFCDS | 0.612 | 0.004 | 0.623 | |