| inSilicoDb 2.4.1 InSilico DB
 
 | Snapshot Date: 2015-10-08 17:20:21 -0700 (Thu, 08 Oct 2015) |  | URL: https://hedgehog.fhcrc.org/bioconductor/branches/RELEASE_3_1/madman/Rpacks/inSilicoDb |  | Last Changed Rev: 107574 / Revision: 109384 |  | Last Changed Date: 2015-08-19 04:49:57 -0700 (Wed, 19 Aug 2015) | 
 | zin2 | Linux (Ubuntu 14.04.2 LTS) / x86_64 | [ OK ] | OK | OK |  |  | 
| moscato2 | Windows Server 2008 R2 Enterprise SP1 (64-bit) / x64 | OK | OK | OK | OK |  | 
| petty | Mac OS X Snow Leopard (10.6.8) / x86_64 | OK | OK | OK | OK |  | 
| morelia | Mac OS X Mavericks (10.9.5) / x86_64 | OK | OK | OK | OK |  | 
##############################################################################
##############################################################################
###
### Running command:
###
###   /home/biocbuild/bbs-3.1-bioc/R/bin/R CMD INSTALL inSilicoDb
###
##############################################################################
##############################################################################
* installing to library ‘/home/biocbuild/bbs-3.1-bioc/R/library’
* installing *source* package ‘inSilicoDb’ ...
** R
** inst
** preparing package for lazy loading
** help
*** installing help indices
** building package indices
** installing vignettes
** testing if installed package can be loaded
* DONE (inSilicoDb)