fabia 2.14.0 Sepp Hochreiter
 | Snapshot Date: 2015-10-08 17:20:21 -0700 (Thu, 08 Oct 2015) |  | URL: https://hedgehog.fhcrc.org/bioconductor/branches/RELEASE_3_1/madman/Rpacks/fabia |  | Last Changed Rev: 102591 / Revision: 109384 |  | Last Changed Date: 2015-04-16 12:42:01 -0700 (Thu, 16 Apr 2015) |  
  | zin2  | Linux (Ubuntu 14.04.2 LTS) / x86_64  |  OK  |  OK  | [ OK ] |  |   | 
| moscato2  | Windows Server 2008 R2 Enterprise SP1 (64-bit) / x64  |  OK  |  OK  |  OK  |  OK  |   | 
| petty  | Mac OS X Snow Leopard (10.6.8) / x86_64  |  OK  |  OK  |  OK  |  OK  |   | 
| morelia  | Mac OS X Mavericks (10.9.5) / x86_64  |  OK  |  OK  |  OK  |  OK  |   | 
##############################################################################
##############################################################################
###
### Running command:
###
###   /home/biocbuild/bbs-3.1-bioc/R/bin/R CMD check --no-vignettes --timings fabia_2.14.0.tar.gz
###
##############################################################################
##############################################################################
* using log directory ‘/home/biocbuild/bbs-3.1-bioc/meat/fabia.Rcheck’
* using R version 3.2.2 (2015-08-14)
* using platform: x86_64-pc-linux-gnu (64-bit)
* using session charset: UTF-8
* using option ‘--no-vignettes’
* checking for file ‘fabia/DESCRIPTION’ ... OK
* this is package ‘fabia’ version ‘2.14.0’
* checking package namespace information ... OK
* checking package dependencies ... OK
* checking if this is a source package ... OK
* checking if there is a namespace ... OK
* checking for hidden files and directories ... OK
* checking for portable file names ... OK
* checking for sufficient/correct file permissions ... OK
* checking whether package ‘fabia’ can be installed ... [6s/6s] OK
* checking installed package size ... OK
* checking package directory ... OK
* checking ‘build’ directory ... OK
* checking DESCRIPTION meta-information ... OK
* checking top-level files ... OK
* checking for left-over files ... OK
* checking index information ... OK
* checking package subdirectories ... OK
* checking R files for non-ASCII characters ... OK
* checking R files for syntax errors ... OK
* checking whether the package can be loaded ... OK
* checking whether the package can be loaded with stated dependencies ... OK
* checking whether the package can be unloaded cleanly ... OK
* checking whether the namespace can be loaded with stated dependencies ... OK
* checking whether the namespace can be unloaded cleanly ... OK
* checking dependencies in R code ... OK
* checking S3 generic/method consistency ... OK
* checking replacement functions ... OK
* checking foreign function calls ... OK
* checking R code for possible problems ... NOTE
File ‘fabia/R/zzz.R’:
  .onLoad calls:
    packageStartupMessage("+----------------------------+                                          \n",     "|............................|                                          \n",     "|............................|                                          \n",     "|..............########......|  #######    #    ######    ###      #    \n",     "|..............########......|  #         # #   #     #    #      # #   \n",     "|.....####.....########......|  #        #   #  #     #    #     #   #  \n",     "|.....####.....########......|  #####   #     # ######     #    #     # \n",     "|.....####...................|  #       ####### #     #    #    ####### \n",     "|.....####...........###.....|  #       #     # #     #    #    #     # \n",     "|....................###.....|  #       #     # ######    ###   #     # \n",     "|....................###.....|                                          \n",     "|............................|                                          \n",     "+----------------------------+                                          \n")
    packageStartupMessage("Citation: S. Hochreiter et al.,", "\n",     "FABIA: Factor Analysis for Bicluster Acquisition,", "\n",     "Bioinformatics 26(12):1520-1527, 2010.", "\n", "BibTex: enter 'toBibtex(citation(\"fabia\"))'",     "\n\n", "Homepage: http://www.bioinf.jku.at/software/fabia/fabia.html",     "\n\n", "FABIA Package Version ", version, "\n")
See section ‘Good practice’ in '?.onAttach'.
plot,Factorization-missing : .local: warning in symbols(ll[isel, 1],
  ll[isel, 2], circle = sqs[isel], inches = FALSE, lwd = 3, add = TRUE,
  fg = colors[2]): partial argument match of 'circle' to 'circles'
plot,Factorization-missing : .local: warning in symbols(zz[ii, 1],
  zz[ii, 2], square = sqs, inches = FALSE, lwd = 3, add = TRUE, fg =
  colors[2 + iGroup[i]]): partial argument match of 'square' to
  'squares'
* checking Rd files ... OK
* checking Rd metadata ... OK
* checking Rd cross-references ... OK
* checking for missing documentation entries ... OK
* checking for code/documentation mismatches ... OK
* checking Rd \usage sections ... OK
* checking Rd contents ... OK
* checking for unstated dependencies in examples ... OK
* checking line endings in C/C++/Fortran sources/headers ... OK
* checking line endings in Makefiles ... OK
* checking compilation flags in Makevars ... OK
* checking for GNU extensions in Makefiles ... OK
* checking for portable use of $(BLAS_LIBS) and $(LAPACK_LIBS) ... OK
* checking compiled code ... OK
* checking sizes of PDF files under ‘inst/doc’ ... NOTE
  ‘qpdf’ made some significant size reductions:
     compacted ‘fabia.pdf’ from 670Kb to 531Kb
  consider running tools::compactPDF() on these files
* checking installed files from ‘inst/doc’ ... OK
* checking files in ‘vignettes’ ... OK
* checking examples ... [3s/3s] OK
* checking for unstated dependencies in vignettes ... OK
* checking package vignettes in ‘inst/doc’ ... OK
* checking running R code from vignettes ... SKIPPED
* checking re-building of vignette outputs ... SKIPPED
* checking PDF version of manual ... OK
* DONE
Status: 2 NOTEs
See
  ‘/home/biocbuild/bbs-3.1-bioc/meat/fabia.Rcheck/00check.log’
for details.