| derfinderPlot 1.2.0 Leonardo Collado-Torres
 
 | Snapshot Date: 2015-10-08 17:20:21 -0700 (Thu, 08 Oct 2015) |  | URL: https://hedgehog.fhcrc.org/bioconductor/branches/RELEASE_3_1/madman/Rpacks/derfinderPlot |  | Last Changed Rev: 104881 / Revision: 109384 |  | Last Changed Date: 2015-06-12 10:02:28 -0700 (Fri, 12 Jun 2015) | 
 | zin2 | Linux (Ubuntu 14.04.2 LTS) / x86_64 | OK | OK | OK |  |  | 
| moscato2 | Windows Server 2008 R2 Enterprise SP1 (64-bit) / x64 | [ OK ] | OK | OK | OK |  | 
| petty | Mac OS X Snow Leopard (10.6.8) / x86_64 | OK | OK | OK | OK |  | 
| morelia | Mac OS X Mavericks (10.9.5) / x86_64 | OK | OK | OK | OK |  | 
##############################################################################
##############################################################################
###
### Running command:
###
###   C:\cygwin\bin\curl.exe -O http://zin2/BBS/3.1/bioc/src/contrib/derfinderPlot_1.2.0.tar.gz && E:\biocbld\bbs-3.1-bioc\R\bin\R.exe CMD INSTALL --merge-multiarch derfinderPlot_1.2.0.tar.gz && rm derfinderPlot_1.2.0.tar.gz
###
##############################################################################
##############################################################################
install for i386
* installing to library 'E:/biocbld/bbs-3.1-bioc/R/library'
* installing *source* package 'derfinderPlot' ...
** R
** inst
** preparing package for lazy loading
Creating a generic function for 'nchar' from package 'base' in package 'S4Vectors'
** help
*** installing help indices
** building package indices
** installing vignettes
** testing if installed package can be loaded
Creating a generic function for 'nchar' from package 'base' in package 'S4Vectors'
install for x64
* installing to library 'E:/biocbld/bbs-3.1-bioc/R/library'
* installing *source* package 'derfinderPlot' ...
** testing if installed package can be loaded
Creating a generic function for 'nchar' from package 'base' in package 'S4Vectors'
* DONE (derfinderPlot)