| Back to the "Multiple platform build/check report" | A B C D E F [G] H I J K L M N O P Q R S T U V W X Y Z |
This page was generated on 2015-10-09 09:29:27 -0700 (Fri, 09 Oct 2015).
| Package 452/1024 | Hostname | OS / Arch | INSTALL | BUILD | CHECK | BUILD BIN | |||||
| GWASTools 1.14.2 Stephanie M. Gogarten
| zin2 | Linux (Ubuntu 14.04.2 LTS) / x86_64 | OK | OK | OK | ||||||
| moscato2 | Windows Server 2008 R2 Enterprise SP1 (64-bit) / x64 | OK | OK | [ OK ] | OK | ||||||
| petty | Mac OS X Snow Leopard (10.6.8) / x86_64 | OK | OK | OK | OK | ||||||
| morelia | Mac OS X Mavericks (10.9.5) / x86_64 | OK | OK | OK | OK |
| Package: GWASTools |
| Version: 1.14.2 |
| Command: rm -rf GWASTools.buildbin-libdir GWASTools.Rcheck && mkdir GWASTools.buildbin-libdir GWASTools.Rcheck && E:\biocbld\bbs-3.1-bioc\R\bin\R.exe CMD INSTALL --build --merge-multiarch --library=GWASTools.buildbin-libdir GWASTools_1.14.2.tar.gz >GWASTools.Rcheck\00install.out 2>&1 && cp GWASTools.Rcheck\00install.out GWASTools-install.out && E:\biocbld\bbs-3.1-bioc\R\bin\R.exe CMD check --library=GWASTools.buildbin-libdir --install="check:GWASTools-install.out" --force-multiarch --no-vignettes --timings GWASTools_1.14.2.tar.gz |
| StartedAt: 2015-10-09 02:46:40 -0700 (Fri, 09 Oct 2015) |
| EndedAt: 2015-10-09 02:57:37 -0700 (Fri, 09 Oct 2015) |
| EllapsedTime: 656.9 seconds |
| RetCode: 0 |
| Status: OK |
| CheckDir: GWASTools.Rcheck |
| Warnings: 0 |
##############################################################################
##############################################################################
###
### Running command:
###
### rm -rf GWASTools.buildbin-libdir GWASTools.Rcheck && mkdir GWASTools.buildbin-libdir GWASTools.Rcheck && E:\biocbld\bbs-3.1-bioc\R\bin\R.exe CMD INSTALL --build --merge-multiarch --library=GWASTools.buildbin-libdir GWASTools_1.14.2.tar.gz >GWASTools.Rcheck\00install.out 2>&1 && cp GWASTools.Rcheck\00install.out GWASTools-install.out && E:\biocbld\bbs-3.1-bioc\R\bin\R.exe CMD check --library=GWASTools.buildbin-libdir --install="check:GWASTools-install.out" --force-multiarch --no-vignettes --timings GWASTools_1.14.2.tar.gz
###
##############################################################################
##############################################################################
* using log directory 'E:/biocbld/bbs-3.1-bioc/meat/GWASTools.Rcheck'
* using R version 3.2.2 (2015-08-14)
* using platform: x86_64-w64-mingw32 (64-bit)
* using session charset: ISO8859-1
* using option '--no-vignettes'
* checking for file 'GWASTools/DESCRIPTION' ... OK
* checking extension type ... Package
* this is package 'GWASTools' version '1.14.2'
* checking package namespace information ... OK
* checking package dependencies ... OK
* checking if this is a source package ... OK
* checking if there is a namespace ... OK
* checking for hidden files and directories ... OK
* checking for portable file names ... OK
* checking whether package 'GWASTools' can be installed ... OK
* checking installed package size ... OK
* checking package directory ... OK
* checking 'build' directory ... OK
* checking DESCRIPTION meta-information ... OK
* checking top-level files ... OK
* checking for left-over files ... OK
* checking index information ... OK
* checking package subdirectories ... OK
* checking R files for non-ASCII characters ... OK
* checking R files for syntax errors ... OK
* loading checks for arch 'i386'
** checking whether the package can be loaded ... OK
** checking whether the package can be loaded with stated dependencies ... OK
** checking whether the package can be unloaded cleanly ... OK
** checking whether the namespace can be loaded with stated dependencies ... OK
** checking whether the namespace can be unloaded cleanly ... OK
* loading checks for arch 'x64'
** checking whether the package can be loaded ... OK
** checking whether the package can be loaded with stated dependencies ... OK
** checking whether the package can be unloaded cleanly ... OK
** checking whether the namespace can be loaded with stated dependencies ... OK
** checking whether the namespace can be unloaded cleanly ... OK
* checking dependencies in R code ... NOTE
'library' or 'require' call to 'snpStats' in package code.
Please use :: or requireNamespace() instead.
See section 'Suggested packages' in the 'Writing R Extensions' manual.
* checking S3 generic/method consistency ... OK
* checking replacement functions ... OK
* checking foreign function calls ... OK
* checking R code for possible problems ... OK
* checking Rd files ... OK
* checking Rd metadata ... OK
* checking Rd cross-references ... OK
* checking for missing documentation entries ... OK
* checking for code/documentation mismatches ... OK
* checking Rd \usage sections ... OK
* checking Rd contents ... OK
* checking for unstated dependencies in examples ... OK
* checking contents of 'data' directory ... OK
* checking data for non-ASCII characters ... OK
* checking data for ASCII and uncompressed saves ... OK
* checking installed files from 'inst/doc' ... OK
* checking files in 'vignettes' ... OK
* checking examples ...
** running examples for arch 'i386' ... [58s] OK
Examples with CPU or elapsed time > 5s
user system elapsed
vcfWrite 9.72 0.16 9.87
plinkUtils 5.18 0.01 5.53
BAFfromClusterMeans 1.66 0.03 5.32
** running examples for arch 'x64' ... [50s] OK
Examples with CPU or elapsed time > 5s
user system elapsed
vcfWrite 10.76 0.12 11.03
* checking for unstated dependencies in 'tests' ... OK
* checking tests ...
** running tests for arch 'i386' ...
Running 'test.R' [173s]
[174s] OK
** running tests for arch 'x64' ...
Running 'test.R' [193s]
[193s] OK
* checking for unstated dependencies in vignettes ... OK
* checking package vignettes in 'inst/doc' ... OK
* checking running R code from vignettes ... SKIPPED
* checking re-building of vignette outputs ... SKIPPED
* checking PDF version of manual ... OK
* DONE
Status: 1 NOTE
See
'E:/biocbld/bbs-3.1-bioc/meat/GWASTools.Rcheck/00check.log'
for details.
GWASTools.Rcheck/00install.out:
install for i386 * installing *source* package 'GWASTools' ... ** R ** data *** moving datasets to lazyload DB ** inst ** preparing package for lazy loading Creating a generic function for 'open' from package 'base' in package 'GWASTools' Creating a generic function for 'close' from package 'base' in package 'GWASTools' ** help *** installing help indices ** building package indices ** installing vignettes ** testing if installed package can be loaded install for x64 * installing *source* package 'GWASTools' ... ** testing if installed package can be loaded * MD5 sums packaged installation of 'GWASTools' as GWASTools_1.14.2.zip * DONE (GWASTools)
GWASTools.Rcheck/examples_i386/GWASTools-Ex.timings:
| name | user | system | elapsed | |
| BAFfromClusterMeans | 1.66 | 0.03 | 5.32 | |
| BAFfromGenotypes | 0 | 0 | 0 | |
| GdsGenotypeReader-class | 0.04 | 0.00 | 0.08 | |
| GdsIntensityReader-class | 0.03 | 0.00 | 0.03 | |
| GdsReader-class | 0.10 | 0.00 | 1.34 | |
| GenotypeData-class | 0.14 | 0.02 | 1.44 | |
| HLA | 0.01 | 0.00 | 0.01 | |
| IntensityData-class | 0.05 | 0.00 | 0.05 | |
| MatrixGenotypeReader-class | 0.02 | 0.00 | 0.01 | |
| NcdfGenotypeReader-class | 0.01 | 0.00 | 0.04 | |
| NcdfIntensityReader-class | 0.02 | 0.00 | 0.25 | |
| NcdfReader-class | 0.00 | 0.00 | 0.03 | |
| ScanAnnotationDataFrame-class | 0.07 | 0.00 | 0.14 | |
| ScanAnnotationSQLite-class | 0.07 | 0.00 | 0.06 | |
| SnpAnnotationDataFrame-class | 0.10 | 0.00 | 0.21 | |
| SnpAnnotationSQLite-class | 0.09 | 0.00 | 0.09 | |
| alleleFrequency | 0.17 | 0.02 | 0.19 | |
| allequal | 0 | 0 | 0 | |
| anomDetectBAF | 2.29 | 0.00 | 2.41 | |
| anomDetectLOH | 1.53 | 0.00 | 1.53 | |
| anomIdentifyLowQuality | 1.43 | 0.00 | 1.45 | |
| anomSegStats | 0.33 | 0.00 | 0.35 | |
| apartSnpSelection | 0.06 | 0.01 | 0.11 | |
| assocCoxPH | 0.37 | 0.00 | 0.37 | |
| assocRegression | 0.61 | 0.03 | 0.64 | |
| assocTestCPH | 0.02 | 0.00 | 0.02 | |
| assocTestFisherExact | 0 | 0 | 0 | |
| assocTestRegression | 0 | 0 | 0 | |
| batchTest | 1.51 | 0.14 | 1.65 | |
| centromeres | 0 | 0 | 0 | |
| chromIntensityPlot | 0.10 | 0.02 | 0.11 | |
| convertNcdfGds | 0.28 | 0.00 | 0.43 | |
| convertVcfGds | 0.05 | 0.00 | 0.07 | |
| createDataFile | 1.00 | 0.01 | 2.66 | |
| duplicateDiscordance | 0.56 | 0.00 | 0.57 | |
| duplicateDiscordanceAcrossDatasets | 0.14 | 0.00 | 0.14 | |
| duplicateDiscordanceProbability | 0 | 0 | 0 | |
| exactHWE | 0.17 | 0.02 | 0.18 | |
| findBAFvariance | 0.39 | 0.02 | 0.41 | |
| gdsSubset | 0.03 | 0.00 | 0.04 | |
| genoClusterPlot | 2.07 | 0.07 | 2.15 | |
| genotypeToCharacter | 0 | 0 | 0 | |
| getobj | 0 | 0 | 0 | |
| gwasExactHW | 0 | 0 | 0 | |
| hetByScanChrom | 0.16 | 0.00 | 0.15 | |
| hetBySnpSex | 0.24 | 0.00 | 0.23 | |
| ibdPlot | 0.04 | 0.00 | 0.05 | |
| imputedDosageFile | 1.76 | 0.02 | 4.57 | |
| intensityOutliersPlot | 0.46 | 0.03 | 0.48 | |
| manhattanPlot | 0.02 | 0.00 | 0.01 | |
| meanIntensityByScanChrom | 0.41 | 0.02 | 0.42 | |
| mendelErr | 1.09 | 0.01 | 1.11 | |
| mendelList | 0 | 0 | 0 | |
| missingGenotypeByScanChrom | 0.14 | 0.02 | 0.15 | |
| missingGenotypeBySnpSex | 0.12 | 0.00 | 0.13 | |
| ncdfSubset | 0.04 | 0.01 | 0.08 | |
| pasteSorted | 0 | 0 | 0 | |
| pcaSnpFilters | 0 | 0 | 0 | |
| pedigreeCheck | 0.05 | 0.00 | 0.05 | |
| pedigreeDeleteDuplicates | 0 | 0 | 0 | |
| pedigreeMaxUnrelated | 0.08 | 0.00 | 0.08 | |
| pedigreePairwiseRelatedness | 0.04 | 0.00 | 0.04 | |
| plinkToNcdf | 2.55 | 0.02 | 3.89 | |
| plinkUtils | 5.18 | 0.01 | 5.53 | |
| pseudoautoIntensityPlot | 0.17 | 0.00 | 0.17 | |
| pseudoautosomal | 0.00 | 0.02 | 0.01 | |
| qqPlot | 0.21 | 0.00 | 0.21 | |
| qualityScoreByScan | 0.43 | 0.00 | 0.43 | |
| qualityScoreBySnp | 0.08 | 0.00 | 0.08 | |
| readWriteFirst | 0.02 | 0.00 | 0.02 | |
| relationsMeanVar | 0 | 0 | 0 | |
| saveas | 0.01 | 0.00 | 0.01 | |
| setMissingGenotypes | 0.13 | 0.01 | 0.14 | |
| simulateGenotypeMatrix | 1.18 | 0.00 | 1.56 | |
| simulateIntensityMatrix | 0.16 | 0.00 | 0.17 | |
| snpCorrelationPlot | 0.01 | 0.00 | 0.02 | |
| snpStats | 0.80 | 0.02 | 0.83 | |
| vcfWrite | 9.72 | 0.16 | 9.87 | |
GWASTools.Rcheck/examples_x64/GWASTools-Ex.timings:
| name | user | system | elapsed | |
| BAFfromClusterMeans | 1.92 | 0.06 | 2.06 | |
| BAFfromGenotypes | 0 | 0 | 0 | |
| GdsGenotypeReader-class | 0.06 | 0.00 | 0.07 | |
| GdsIntensityReader-class | 0.03 | 0.00 | 0.03 | |
| GdsReader-class | 0.11 | 0.02 | 0.29 | |
| GenotypeData-class | 0.30 | 0.03 | 0.39 | |
| HLA | 0 | 0 | 0 | |
| IntensityData-class | 0.10 | 0.00 | 0.09 | |
| MatrixGenotypeReader-class | 0 | 0 | 0 | |
| NcdfGenotypeReader-class | 0.03 | 0.00 | 0.03 | |
| NcdfIntensityReader-class | 0.04 | 0.00 | 0.05 | |
| NcdfReader-class | 0.02 | 0.00 | 0.02 | |
| ScanAnnotationDataFrame-class | 0.12 | 0.00 | 0.12 | |
| ScanAnnotationSQLite-class | 0.09 | 0.00 | 0.09 | |
| SnpAnnotationDataFrame-class | 0.18 | 0.00 | 0.17 | |
| SnpAnnotationSQLite-class | 0.14 | 0.01 | 0.16 | |
| alleleFrequency | 0.31 | 0.00 | 0.31 | |
| allequal | 0 | 0 | 0 | |
| anomDetectBAF | 2.49 | 0.00 | 2.50 | |
| anomDetectLOH | 1.39 | 0.00 | 1.39 | |
| anomIdentifyLowQuality | 1.26 | 0.02 | 1.28 | |
| anomSegStats | 0.32 | 0.00 | 0.33 | |
| apartSnpSelection | 0.08 | 0.02 | 0.09 | |
| assocCoxPH | 0.46 | 0.00 | 0.45 | |
| assocRegression | 1.13 | 0.01 | 1.16 | |
| assocTestCPH | 0 | 0 | 0 | |
| assocTestFisherExact | 0 | 0 | 0 | |
| assocTestRegression | 0.00 | 0.02 | 0.01 | |
| batchTest | 2.17 | 0.04 | 2.22 | |
| centromeres | 0 | 0 | 0 | |
| chromIntensityPlot | 0.11 | 0.04 | 0.14 | |
| convertNcdfGds | 0.43 | 0.01 | 0.48 | |
| convertVcfGds | 0.05 | 0.00 | 0.08 | |
| createDataFile | 0.68 | 0.03 | 0.78 | |
| duplicateDiscordance | 0.63 | 0.00 | 0.63 | |
| duplicateDiscordanceAcrossDatasets | 0.16 | 0.00 | 0.16 | |
| duplicateDiscordanceProbability | 0 | 0 | 0 | |
| exactHWE | 0.06 | 0.00 | 0.06 | |
| findBAFvariance | 0.48 | 0.00 | 0.48 | |
| gdsSubset | 0.05 | 0.00 | 0.05 | |
| genoClusterPlot | 2.20 | 0.03 | 2.76 | |
| genotypeToCharacter | 0 | 0 | 0 | |
| getobj | 0 | 0 | 0 | |
| gwasExactHW | 0 | 0 | 0 | |
| hetByScanChrom | 0.19 | 0.00 | 0.19 | |
| hetBySnpSex | 0.17 | 0.00 | 0.17 | |
| ibdPlot | 0.04 | 0.00 | 0.04 | |
| imputedDosageFile | 1.23 | 0.00 | 1.27 | |
| intensityOutliersPlot | 0.57 | 0.00 | 0.56 | |
| manhattanPlot | 0.03 | 0.00 | 0.03 | |
| meanIntensityByScanChrom | 0.61 | 0.00 | 0.61 | |
| mendelErr | 1.59 | 0.00 | 1.59 | |
| mendelList | 0 | 0 | 0 | |
| missingGenotypeByScanChrom | 0.15 | 0.01 | 0.17 | |
| missingGenotypeBySnpSex | 0.16 | 0.00 | 0.15 | |
| ncdfSubset | 0.06 | 0.00 | 0.07 | |
| pasteSorted | 0 | 0 | 0 | |
| pcaSnpFilters | 0.00 | 0.02 | 0.01 | |
| pedigreeCheck | 0.05 | 0.00 | 0.05 | |
| pedigreeDeleteDuplicates | 0.01 | 0.00 | 0.01 | |
| pedigreeMaxUnrelated | 0.1 | 0.0 | 0.1 | |
| pedigreePairwiseRelatedness | 0.04 | 0.00 | 0.04 | |
| plinkToNcdf | 3.09 | 0.00 | 3.12 | |
| plinkUtils | 4.85 | 0.03 | 4.89 | |
| pseudoautoIntensityPlot | 0.17 | 0.00 | 0.17 | |
| pseudoautosomal | 0.00 | 0.02 | 0.02 | |
| qqPlot | 0.2 | 0.0 | 0.2 | |
| qualityScoreByScan | 0.5 | 0.0 | 0.5 | |
| qualityScoreBySnp | 0.08 | 0.01 | 0.09 | |
| readWriteFirst | 0.02 | 0.00 | 0.02 | |
| relationsMeanVar | 0 | 0 | 0 | |
| saveas | 0 | 0 | 0 | |
| setMissingGenotypes | 0.12 | 0.02 | 0.30 | |
| simulateGenotypeMatrix | 1.14 | 0.01 | 1.15 | |
| simulateIntensityMatrix | 0.19 | 0.00 | 0.19 | |
| snpCorrelationPlot | 0.01 | 0.00 | 0.01 | |
| snpStats | 0.58 | 0.02 | 0.61 | |
| vcfWrite | 10.76 | 0.12 | 11.03 | |