flowViz 1.30.1 Mike Jiang
 | Snapshot Date: 2015-04-09 16:20:12 -0700 (Thu, 09 Apr 2015) |  | URL: https://hedgehog.fhcrc.org/bioconductor/branches/RELEASE_3_0/madman/Rpacks/flowViz |  | Last Changed Rev: 100490 / Revision: 102249 |  | Last Changed Date: 2015-03-10 12:28:59 -0700 (Tue, 10 Mar 2015) |  
  | zin1  | Linux (Ubuntu 12.04.4 LTS) / x86_64  |  OK  |  OK  |  OK  |  | 
| moscato1  | Windows Server 2008 R2 Enterprise SP1 (64-bit) / x64  |  OK  |  OK  | [ OK ] |  OK  | 
| perceval  | Mac OS X Snow Leopard (10.6.8) / x86_64  |  OK  |  OK  |  OK  |  OK  | 
| oaxaca  | Mac OS X Mavericks (10.9.5) / x86_64  |  OK  |  OK  |  OK  |  OK  | 
##############################################################################
##############################################################################
###
### Running command:
###
###   rm -rf flowViz.buildbin-libdir flowViz.Rcheck && mkdir flowViz.buildbin-libdir flowViz.Rcheck && D:\biocbld\bbs-3.0-bioc\R\bin\R.exe CMD INSTALL --build --merge-multiarch --library=flowViz.buildbin-libdir flowViz_1.30.1.tar.gz >flowViz.Rcheck\00install.out 2>&1 && cp flowViz.Rcheck\00install.out flowViz-install.out  && D:\biocbld\bbs-3.0-bioc\R\bin\R.exe CMD check --library=flowViz.buildbin-libdir --install="check:flowViz-install.out" --force-multiarch --no-vignettes --timings flowViz_1.30.1.tar.gz
###
##############################################################################
##############################################################################
* using log directory 'D:/biocbld/bbs-3.0-bioc/meat/flowViz.Rcheck'
* using R version 3.1.3 (2015-03-09)
* using platform: i386-w64-mingw32 (32-bit)
* using session charset: ISO8859-1
* using option '--no-vignettes'
* checking for file 'flowViz/DESCRIPTION' ... OK
* checking extension type ... Package
* this is package 'flowViz' version '1.30.1'
* checking package namespace information ... OK
* checking package dependencies ... OK
* checking if this is a source package ... OK
* checking if there is a namespace ... OK
* checking for hidden files and directories ... OK
* checking for portable file names ... OK
* checking whether package 'flowViz' can be installed ... OK
* checking installed package size ... OK
* checking package directory ... OK
* checking 'build' directory ... OK
* checking DESCRIPTION meta-information ... NOTE
Packages listed in more than one of Depends, Imports, Suggests, Enhances:
  'flowCore' 'lattice'
A package should be listed in only one of these fields.
* checking top-level files ... OK
* checking for left-over files ... OK
* checking index information ... OK
* checking package subdirectories ... OK
* checking R files for non-ASCII characters ... OK
* checking R files for syntax errors ... OK
* loading checks for arch 'i386'
** checking whether the package can be loaded ... OK
** checking whether the package can be loaded with stated dependencies ... OK
** checking whether the package can be unloaded cleanly ... OK
** checking whether the namespace can be loaded with stated dependencies ... OK
** checking whether the namespace can be unloaded cleanly ... OK
* loading checks for arch 'x64'
** checking whether the package can be loaded ... OK
** checking whether the package can be loaded with stated dependencies ... OK
** checking whether the package can be unloaded cleanly ... OK
** checking whether the namespace can be loaded with stated dependencies ... OK
** checking whether the namespace can be unloaded cleanly ... OK
* checking dependencies in R code ... NOTE
Unexported objects imported by ':::' calls:
  'flowCore:::findTimeChannel' 'flowCore:::prepareSet'
  'lattice:::updateList'
  See the note in ?`:::` about the use of this operator.
* checking S3 generic/method consistency ... OK
* checking replacement functions ... OK
* checking foreign function calls ... OK
* checking R code for possible problems ... NOTE
.densityplot.flowSet: no visible global function definition for
  'lattice.getOption'
.xyplot.flowSet: no visible global function definition for 'bwplot'
panel.xyplot.flowframe: no visible global function definition for
  'lpoints'
panel.xyplot.flowframe.old: no visible global function definition for
  'lpoints'
* checking Rd files ... OK
* checking Rd metadata ... OK
* checking Rd cross-references ... OK
* checking for missing documentation entries ... OK
* checking for code/documentation mismatches ... OK
* checking Rd \usage sections ... OK
* checking Rd contents ... OK
* checking for unstated dependencies in examples ... OK
* checking installed files from 'inst/doc' ... OK
* checking files in 'vignettes' ... OK
* checking examples ...
** running examples for arch 'i386' ... [99s] OK
Examples with CPU or elapsed time > 5s
                        user system elapsed
densityplot            20.58   0.48   22.44
xyplot                 15.92   0.13   17.30
splom                  15.04   0.23   15.57
latticeMethods-flowSet 14.16   0.14   14.88
timeLinePlot-methods   10.75   0.03   10.78
ecdfplot                8.05   0.03    8.08
** running examples for arch 'x64' ... [92s] OK
Examples with CPU or elapsed time > 5s
                        user system elapsed
densityplot            20.00   0.41   20.64
xyplot                 17.16   0.10   17.84
latticeMethods-flowSet 13.99   0.16   14.15
splom                  13.03   0.09   13.76
ecdfplot                9.19   0.05    9.24
timeLinePlot-methods    7.72   0.02    7.74
* checking for unstated dependencies in vignettes ... NOTE
'::' or ':::' import not declared from: 'data.table'
* checking package vignettes in 'inst/doc' ... OK
* checking running R code from vignettes ... SKIPPED
* checking re-building of vignette outputs ... SKIPPED
* checking PDF version of manual ... OK
* DONE
NOTE: There were 4 notes.
See
  'D:/biocbld/bbs-3.0-bioc/meat/flowViz.Rcheck/00check.log'
for details.
 
install for i386
* installing *source* package 'flowViz' ...
** R
** inst
** preparing package for lazy loading
** help
*** installing help indices
** building package indices
** installing vignettes
** testing if installed package can be loaded
install for x64
* installing *source* package 'flowViz' ...
** testing if installed package can be loaded
* MD5 sums
packaged installation of 'flowViz' as flowViz_1.30.1.zip
* DONE (flowViz)