rSFFreader 0.14.0 Matt Settles
 | Snapshot Date: 2015-04-09 16:20:12 -0700 (Thu, 09 Apr 2015) |  | URL: https://hedgehog.fhcrc.org/bioconductor/branches/RELEASE_3_0/madman/Rpacks/rSFFreader |  | Last Changed Rev: 95439 / Revision: 102249 |  | Last Changed Date: 2014-10-13 14:38:33 -0700 (Mon, 13 Oct 2014) |  
  | zin1  | Linux (Ubuntu 12.04.4 LTS) / x86_64  |  OK  |  OK  |  OK  |  | 
| moscato1  | Windows Server 2008 R2 Enterprise SP1 (64-bit) / x64  |  OK  |  ERROR  |  skipped  |  skipped  | 
| perceval  | Mac OS X Snow Leopard (10.6.8) / x86_64  |  OK  |  OK  |  OK  |  OK  | 
| oaxaca  | Mac OS X Mavericks (10.9.5) / x86_64  | [ OK ] |  OK  |  OK  |  OK  | 
##############################################################################
##############################################################################
###
### Running command:
###
###   /Library/Frameworks/R.framework/Versions/Current/Resources/bin/R CMD INSTALL rSFFreader
###
##############################################################################
##############################################################################
* installing to library ‘/Library/Frameworks/R.framework/Versions/3.1/Resources/library’
* installing *source* package ‘rSFFreader’ ...
** libs
clang -I/Library/Frameworks/R.framework/Resources/include -DNDEBUG  -I/usr/local/include -I/usr/local/include/freetype2 -I/opt/X11/include -I"/Library/Frameworks/R.framework/Versions/3.1/Resources/library/S4Vectors/include" -I"/Library/Frameworks/R.framework/Versions/3.1/Resources/library/IRanges/include" -I"/Library/Frameworks/R.framework/Versions/3.1/Resources/library/XVector/include" -I"/Library/Frameworks/R.framework/Versions/3.1/Resources/library/Biostrings/include"   -fPIC  -Wall -mtune=core2 -g -O2  -c Biostrings_stubs.c -o Biostrings_stubs.o
clang -I/Library/Frameworks/R.framework/Resources/include -DNDEBUG  -I/usr/local/include -I/usr/local/include/freetype2 -I/opt/X11/include -I"/Library/Frameworks/R.framework/Versions/3.1/Resources/library/S4Vectors/include" -I"/Library/Frameworks/R.framework/Versions/3.1/Resources/library/IRanges/include" -I"/Library/Frameworks/R.framework/Versions/3.1/Resources/library/XVector/include" -I"/Library/Frameworks/R.framework/Versions/3.1/Resources/library/Biostrings/include"   -fPIC  -Wall -mtune=core2 -g -O2  -c IRanges_stubs.c -o IRanges_stubs.o
clang -I/Library/Frameworks/R.framework/Resources/include -DNDEBUG  -I/usr/local/include -I/usr/local/include/freetype2 -I/opt/X11/include -I"/Library/Frameworks/R.framework/Versions/3.1/Resources/library/S4Vectors/include" -I"/Library/Frameworks/R.framework/Versions/3.1/Resources/library/IRanges/include" -I"/Library/Frameworks/R.framework/Versions/3.1/Resources/library/XVector/include" -I"/Library/Frameworks/R.framework/Versions/3.1/Resources/library/Biostrings/include"   -fPIC  -Wall -mtune=core2 -g -O2  -c R_init_rSFFreader.c -o R_init_rSFFreader.o
clang -I/Library/Frameworks/R.framework/Resources/include -DNDEBUG  -I/usr/local/include -I/usr/local/include/freetype2 -I/opt/X11/include -I"/Library/Frameworks/R.framework/Versions/3.1/Resources/library/S4Vectors/include" -I"/Library/Frameworks/R.framework/Versions/3.1/Resources/library/IRanges/include" -I"/Library/Frameworks/R.framework/Versions/3.1/Resources/library/XVector/include" -I"/Library/Frameworks/R.framework/Versions/3.1/Resources/library/Biostrings/include"   -fPIC  -Wall -mtune=core2 -g -O2  -c S4Vectors_stubs.c -o S4Vectors_stubs.o
clang -I/Library/Frameworks/R.framework/Resources/include -DNDEBUG  -I/usr/local/include -I/usr/local/include/freetype2 -I/opt/X11/include -I"/Library/Frameworks/R.framework/Versions/3.1/Resources/library/S4Vectors/include" -I"/Library/Frameworks/R.framework/Versions/3.1/Resources/library/IRanges/include" -I"/Library/Frameworks/R.framework/Versions/3.1/Resources/library/XVector/include" -I"/Library/Frameworks/R.framework/Versions/3.1/Resources/library/Biostrings/include"   -fPIC  -Wall -mtune=core2 -g -O2  -c SFF-io.c -o SFF-io.o
clang -I/Library/Frameworks/R.framework/Resources/include -DNDEBUG  -I/usr/local/include -I/usr/local/include/freetype2 -I/opt/X11/include -I"/Library/Frameworks/R.framework/Versions/3.1/Resources/library/S4Vectors/include" -I"/Library/Frameworks/R.framework/Versions/3.1/Resources/library/IRanges/include" -I"/Library/Frameworks/R.framework/Versions/3.1/Resources/library/XVector/include" -I"/Library/Frameworks/R.framework/Versions/3.1/Resources/library/Biostrings/include"   -fPIC  -Wall -mtune=core2 -g -O2  -c XVector_stubs.c -o XVector_stubs.o
clang -dynamiclib -Wl,-headerpad_max_install_names -undefined dynamic_lookup -single_module -multiply_defined suppress -L/Library/Frameworks/R.framework/Resources/lib -L/usr/local/lib -o rSFFreader.so Biostrings_stubs.o IRanges_stubs.o R_init_rSFFreader.o S4Vectors_stubs.o SFF-io.o XVector_stubs.o -F/Library/Frameworks/R.framework/.. -framework R -Wl,-framework -Wl,CoreFoundation
installing to /Library/Frameworks/R.framework/Versions/3.1/Resources/library/rSFFreader/libs
** R
** inst
** preparing package for lazy loading
** help
*** installing help indices
** building package indices
** installing vignettes
** testing if installed package can be loaded
* DONE (rSFFreader)