| Back to the "Multiple platform build/check report" |
| Package 66/98 | Hostname | OS / Arch | BUILD | CHECK | BUILD BIN | ||||
| lumiBarnes 1.3.5 Pan Du
| wilson2 | Linux (openSUSE 11.4) / x86_64 | OK | OK | |||||
| liverpool | Windows Server 2003 R2 (32-bit) / x64 | OK | OK | [ OK ] | |||||
| pitt | Mac OS X Leopard (10.5.8) / i386 | OK | OK | OK |
| Package: lumiBarnes |
| Version: 1.3.5 |
| Command: mkdir lumiBarnes.buildbin-libdir && E:\biocbld\bbs-2.9-bioc\R\bin\R.exe CMD INSTALL --build --no-multiarch --library=lumiBarnes.buildbin-libdir lumiBarnes_1.3.5.tar.gz |
| StartedAt: 2011-07-06 17:11:17 -0700 (Wed, 06 Jul 2011) |
| EndedAt: 2011-07-06 17:11:30 -0700 (Wed, 06 Jul 2011) |
| EllapsedTime: 13.6 seconds |
| RetCode: 0 |
| Status: OK |
| PackageFile: lumiBarnes_1.3.5.zip |
| PackageFileSize: 4.991 MiB |
* installing *source* package 'lumiBarnes' ... ** data ** help *** installing help indices ** building package indices ... ** testing if installed package can be loaded * MD5 sums packaged installation of 'lumiBarnes' as lumiBarnes_1.3.5.zip * DONE (lumiBarnes)