xmapcore 1.7.0 Tim Yates
| Snapshot Date: 2011-06-21 19:21:48 -0700 (Tue, 21 Jun 2011) | | URL: https://hedgehog.fhcrc.org/bioconductor/trunk/madman/Rpacks/xmapcore | | Last Changed Rev: 56090 / Revision: 56351 | | Last Changed Date: 2011-06-09 17:02:42 -0700 (Thu, 09 Jun 2011) |
| wilson2 | Linux (openSUSE 11.4) / x86_64 | OK | OK | |
| liverpool | Windows Server 2003 R2 (32-bit) / x64 | N O T S U P P O R T E D |
| gewurz | Windows Server 2008 R2 Enterprise (64-bit) / x64 | N O T S U P P O R T E D |
| moscato1 | Windows Server 2008 R2 Enterprise (64-bit) / x64 | N O T S U P P O R T E D |
| pelham | Mac OS X Leopard (10.5.8) / i386 | [ OK ] | OK | OK |
* checking for file ‘xmapcore/DESCRIPTION’ ... OK
* preparing ‘xmapcore’:
* checking DESCRIPTION meta-information ... OK
* installing the package to re-build vignettes
* creating vignettes ... OK
* checking for LF line-endings in source and make files
* checking for empty or unneeded directories
* building ‘xmapcore_1.7.0.tar.gz’