rsbml 2.12.0 Michael Lawrence
 | Snapshot Date: 2012-01-08 18:22:44 -0800 (Sun, 08 Jan 2012) |  | URL: https://hedgehog.fhcrc.org/bioconductor/branches/RELEASE_2_9/madman/Rpacks/rsbml |  | Last Changed Rev: 59920 / Revision: 61898 |  | Last Changed Date: 2011-10-31 15:59:03 -0700 (Mon, 31 Oct 2011) |  
  | wilson2  | Linux (openSUSE 11.4) / x86_64  |  OK  |  OK  |  | 
| liverpool  | Windows Server 2003 R2 (32-bit) / x64  |  OK  | [ OK ] |  OK  | 
| gewurz  | Windows Server 2008 R2 Enterprise SP1 (64-bit) / x64  | N O T   S U P P O R T E D | 
| moscato1  | Windows Server 2008 R2 Enterprise SP1 (64-bit) / x64  |  ERROR  |  skipped  |  skipped  | 
| pitt  | Mac OS X Leopard (10.5.8) / i386  |  OK  |  WARNINGS  |  OK  | 
* installing *source* package 'rsbml' ...
** libs
gcc  -I"E:/biocbld/BBS-2˜1.9-B/R/include" -g -D_R_=1 -DUSE_R=1 -IC:/libSBML-3.3.2-expat/win32/include -IC:/libSBML-3.3.2-expat/win32/include/expat -IE:/biocbld/BBS-2˜1.9-B/R/include -DLIBSBML3         -O3 -Wall  -std=gnu99 -mtune=core2 -c StringMap.c -o StringMap.o
In file included from C:/libSBML-3.3.2-expat/win32/include/sbml/common/libsbml-version.h:28:0,
                 from C:/libSBML-3.3.2-expat/win32/include/sbml/common/libsbml-config.h:62,
                 from C:/libSBML-3.3.2-expat/win32/include/sbml/common/common.h:28,
                 from StringMap.c:52:
C:/libSBML-3.3.2-expat/win32/include/sbml/common/extern.h:56:0: warning: ignoring #pragma warning 
C:/libSBML-3.3.2-expat/win32/include/sbml/common/extern.h:61:0: warning: ignoring #pragma warning 
C:/libSBML-3.3.2-expat/win32/include/sbml/common/extern.h:70:0: warning: ignoring #pragma warning 
gcc  -I"E:/biocbld/BBS-2˜1.9-B/R/include" -g -D_R_=1 -DUSE_R=1 -IC:/libSBML-3.3.2-expat/win32/include -IC:/libSBML-3.3.2-expat/win32/include/expat -IE:/biocbld/BBS-2˜1.9-B/R/include -DLIBSBML3         -O3 -Wall  -std=gnu99 -mtune=core2 -c check.c -o check.o
In file included from C:/libSBML-3.3.2-expat/win32/include/sbml/common/libsbml-version.h:28:0,
                 from C:/libSBML-3.3.2-expat/win32/include/sbml/common/libsbml-config.h:62,
                 from C:/libSBML-3.3.2-expat/win32/include/sbml/common/sbmlfwd.h:35,
                 from C:/libSBML-3.3.2-expat/win32/include/sbml/SBMLTypes.h:28,
                 from rsbml.h:4,
                 from check.c:1:
C:/libSBML-3.3.2-expat/win32/include/sbml/common/extern.h:56:0: warning: ignoring #pragma warning 
C:/libSBML-3.3.2-expat/win32/include/sbml/common/extern.h:61:0: warning: ignoring #pragma warning 
C:/libSBML-3.3.2-expat/win32/include/sbml/common/extern.h:70:0: warning: ignoring #pragma warning 
In file included from C:/libSBML-3.3.2-expat/win32/include/sbml/xml/XMLError.h:294:0,
                 from C:/libSBML-3.3.2-expat/win32/include/sbml/SBMLError.h:580,
                 from C:/libSBML-3.3.2-expat/win32/include/sbml/SBMLDocument.h:237,
                 from C:/libSBML-3.3.2-expat/win32/include/sbml/SBMLTypes.h:30,
                 from rsbml.h:4,
                 from check.c:1:
C:/libSBML-3.3.2-expat/win32/include/sbml/xml/XMLExtern.h:65:0: warning: ignoring #pragma warning 
gcc  -I"E:/biocbld/BBS-2˜1.9-B/R/include" -g -D_R_=1 -DUSE_R=1 -IC:/libSBML-3.3.2-expat/win32/include -IC:/libSBML-3.3.2-expat/win32/include/expat -IE:/biocbld/BBS-2˜1.9-B/R/include -DLIBSBML3         -O3 -Wall  -std=gnu99 -mtune=core2 -c doc.c -o doc.o
In file included from C:/libSBML-3.3.2-expat/win32/include/sbml/common/libsbml-version.h:28:0,
                 from C:/libSBML-3.3.2-expat/win32/include/sbml/common/libsbml-config.h:62,
                 from C:/libSBML-3.3.2-expat/win32/include/sbml/common/sbmlfwd.h:35,
                 from C:/libSBML-3.3.2-expat/win32/include/sbml/SBMLTypes.h:28,
                 from rsbml.h:4,
                 from doc.c:1:
C:/libSBML-3.3.2-expat/win32/include/sbml/common/extern.h:56:0: warning: ignoring #pragma warning 
C:/libSBML-3.3.2-expat/win32/include/sbml/common/extern.h:61:0: warning: ignoring #pragma warning 
C:/libSBML-3.3.2-expat/win32/include/sbml/common/extern.h:70:0: warning: ignoring #pragma warning 
In file included from C:/libSBML-3.3.2-expat/win32/include/sbml/xml/XMLError.h:294:0,
                 from C:/libSBML-3.3.2-expat/win32/include/sbml/SBMLError.h:580,
                 from C:/libSBML-3.3.2-expat/win32/include/sbml/SBMLDocument.h:237,
                 from C:/libSBML-3.3.2-expat/win32/include/sbml/SBMLTypes.h:30,
                 from rsbml.h:4,
                 from doc.c:1:
C:/libSBML-3.3.2-expat/win32/include/sbml/xml/XMLExtern.h:65:0: warning: ignoring #pragma warning 
gcc  -I"E:/biocbld/BBS-2˜1.9-B/R/include" -g -D_R_=1 -DUSE_R=1 -IC:/libSBML-3.3.2-expat/win32/include -IC:/libSBML-3.3.2-expat/win32/include/expat -IE:/biocbld/BBS-2˜1.9-B/R/include -DLIBSBML3         -O3 -Wall  -std=gnu99 -mtune=core2 -c dom.c -o dom.o
In file included from C:/libSBML-3.3.2-expat/win32/include/sbml/common/libsbml-version.h:28:0,
                 from C:/libSBML-3.3.2-expat/win32/include/sbml/common/libsbml-config.h:62,
                 from C:/libSBML-3.3.2-expat/win32/include/sbml/common/sbmlfwd.h:35,
                 from C:/libSBML-3.3.2-expat/win32/include/sbml/SBMLTypes.h:28,
                 from rsbml.h:4,
                 from dom.c:1:
C:/libSBML-3.3.2-expat/win32/include/sbml/common/extern.h:56:0: warning: ignoring #pragma warning 
C:/libSBML-3.3.2-expat/win32/include/sbml/common/extern.h:61:0: warning: ignoring #pragma warning 
C:/libSBML-3.3.2-expat/win32/include/sbml/common/extern.h:70:0: warning: ignoring #pragma warning 
In file included from C:/libSBML-3.3.2-expat/win32/include/sbml/xml/XMLError.h:294:0,
                 from C:/libSBML-3.3.2-expat/win32/include/sbml/SBMLError.h:580,
                 from C:/libSBML-3.3.2-expat/win32/include/sbml/SBMLDocument.h:237,
                 from C:/libSBML-3.3.2-expat/win32/include/sbml/SBMLTypes.h:30,
                 from rsbml.h:4,
                 from dom.c:1:
C:/libSBML-3.3.2-expat/win32/include/sbml/xml/XMLExtern.h:65:0: warning: ignoring #pragma warning 
gcc  -I"E:/biocbld/BBS-2˜1.9-B/R/include" -g -D_R_=1 -DUSE_R=1 -IC:/libSBML-3.3.2-expat/win32/include -IC:/libSBML-3.3.2-expat/win32/include/expat -IE:/biocbld/BBS-2˜1.9-B/R/include -DLIBSBML3         -O3 -Wall  -std=gnu99 -mtune=core2 -c graph.c -o graph.o
In file included from C:/libSBML-3.3.2-expat/win32/include/sbml/common/libsbml-version.h:28:0,
                 from C:/libSBML-3.3.2-expat/win32/include/sbml/common/libsbml-config.h:62,
                 from C:/libSBML-3.3.2-expat/win32/include/sbml/common/sbmlfwd.h:35,
                 from C:/libSBML-3.3.2-expat/win32/include/sbml/SBMLTypes.h:28,
                 from rsbml.h:4,
                 from graph.c:1:
C:/libSBML-3.3.2-expat/win32/include/sbml/common/extern.h:56:0: warning: ignoring #pragma warning 
C:/libSBML-3.3.2-expat/win32/include/sbml/common/extern.h:61:0: warning: ignoring #pragma warning 
C:/libSBML-3.3.2-expat/win32/include/sbml/common/extern.h:70:0: warning: ignoring #pragma warning 
In file included from C:/libSBML-3.3.2-expat/win32/include/sbml/xml/XMLError.h:294:0,
                 from C:/libSBML-3.3.2-expat/win32/include/sbml/SBMLError.h:580,
                 from C:/libSBML-3.3.2-expat/win32/include/sbml/SBMLDocument.h:237,
                 from C:/libSBML-3.3.2-expat/win32/include/sbml/SBMLTypes.h:30,
                 from rsbml.h:4,
                 from graph.c:1:
C:/libSBML-3.3.2-expat/win32/include/sbml/xml/XMLExtern.h:65:0: warning: ignoring #pragma warning 
gcc  -I"E:/biocbld/BBS-2˜1.9-B/R/include" -g -D_R_=1 -DUSE_R=1 -IC:/libSBML-3.3.2-expat/win32/include -IC:/libSBML-3.3.2-expat/win32/include/expat -IE:/biocbld/BBS-2˜1.9-B/R/include -DLIBSBML3         -O3 -Wall  -std=gnu99 -mtune=core2 -c init.c -o init.o
In file included from C:/libSBML-3.3.2-expat/win32/include/sbml/common/libsbml-version.h:28:0,
                 from C:/libSBML-3.3.2-expat/win32/include/sbml/common/libsbml-config.h:62,
                 from C:/libSBML-3.3.2-expat/win32/include/sbml/common/sbmlfwd.h:35,
                 from C:/libSBML-3.3.2-expat/win32/include/sbml/SBMLTypes.h:28,
                 from rsbml.h:4,
                 from init.c:1:
C:/libSBML-3.3.2-expat/win32/include/sbml/common/extern.h:56:0: warning: ignoring #pragma warning 
C:/libSBML-3.3.2-expat/win32/include/sbml/common/extern.h:61:0: warning: ignoring #pragma warning 
C:/libSBML-3.3.2-expat/win32/include/sbml/common/extern.h:70:0: warning: ignoring #pragma warning 
In file included from C:/libSBML-3.3.2-expat/win32/include/sbml/xml/XMLError.h:294:0,
                 from C:/libSBML-3.3.2-expat/win32/include/sbml/SBMLError.h:580,
                 from C:/libSBML-3.3.2-expat/win32/include/sbml/SBMLDocument.h:237,
                 from C:/libSBML-3.3.2-expat/win32/include/sbml/SBMLTypes.h:30,
                 from rsbml.h:4,
                 from init.c:1:
C:/libSBML-3.3.2-expat/win32/include/sbml/xml/XMLExtern.h:65:0: warning: ignoring #pragma warning 
gcc  -I"E:/biocbld/BBS-2˜1.9-B/R/include" -g -D_R_=1 -DUSE_R=1 -IC:/libSBML-3.3.2-expat/win32/include -IC:/libSBML-3.3.2-expat/win32/include/expat -IE:/biocbld/BBS-2˜1.9-B/R/include -DLIBSBML3         -O3 -Wall  -std=gnu99 -mtune=core2 -c io.c -o io.o
In file included from C:/libSBML-3.3.2-expat/win32/include/sbml/common/libsbml-version.h:28:0,
                 from C:/libSBML-3.3.2-expat/win32/include/sbml/common/libsbml-config.h:62,
                 from C:/libSBML-3.3.2-expat/win32/include/sbml/common/sbmlfwd.h:35,
                 from C:/libSBML-3.3.2-expat/win32/include/sbml/SBMLTypes.h:28,
                 from rsbml.h:4,
                 from io.c:1:
C:/libSBML-3.3.2-expat/win32/include/sbml/common/extern.h:56:0: warning: ignoring #pragma warning 
C:/libSBML-3.3.2-expat/win32/include/sbml/common/extern.h:61:0: warning: ignoring #pragma warning 
C:/libSBML-3.3.2-expat/win32/include/sbml/common/extern.h:70:0: warning: ignoring #pragma warning 
In file included from C:/libSBML-3.3.2-expat/win32/include/sbml/xml/XMLError.h:294:0,
                 from C:/libSBML-3.3.2-expat/win32/include/sbml/SBMLError.h:580,
                 from C:/libSBML-3.3.2-expat/win32/include/sbml/SBMLDocument.h:237,
                 from C:/libSBML-3.3.2-expat/win32/include/sbml/SBMLTypes.h:30,
                 from rsbml.h:4,
                 from io.c:1:
C:/libSBML-3.3.2-expat/win32/include/sbml/xml/XMLExtern.h:65:0: warning: ignoring #pragma warning 
gcc  -I"E:/biocbld/BBS-2˜1.9-B/R/include" -g -D_R_=1 -DUSE_R=1 -IC:/libSBML-3.3.2-expat/win32/include -IC:/libSBML-3.3.2-expat/win32/include/expat -IE:/biocbld/BBS-2˜1.9-B/R/include -DLIBSBML3         -O3 -Wall  -std=gnu99 -mtune=core2 -c mathml.c -o mathml.o
In file included from C:/libSBML-3.3.2-expat/win32/include/sbml/common/libsbml-version.h:28:0,
                 from C:/libSBML-3.3.2-expat/win32/include/sbml/common/libsbml-config.h:62,
                 from C:/libSBML-3.3.2-expat/win32/include/sbml/common/sbmlfwd.h:35,
                 from C:/libSBML-3.3.2-expat/win32/include/sbml/SBMLTypes.h:28,
                 from rsbml.h:4,
                 from mathml.c:3:
C:/libSBML-3.3.2-expat/win32/include/sbml/common/extern.h:56:0: warning: ignoring #pragma warning 
C:/libSBML-3.3.2-expat/win32/include/sbml/common/extern.h:61:0: warning: ignoring #pragma warning 
C:/libSBML-3.3.2-expat/win32/include/sbml/common/extern.h:70:0: warning: ignoring #pragma warning 
In file included from C:/libSBML-3.3.2-expat/win32/include/sbml/xml/XMLError.h:294:0,
                 from C:/libSBML-3.3.2-expat/win32/include/sbml/SBMLError.h:580,
                 from C:/libSBML-3.3.2-expat/win32/include/sbml/SBMLDocument.h:237,
                 from C:/libSBML-3.3.2-expat/win32/include/sbml/SBMLTypes.h:30,
                 from rsbml.h:4,
                 from mathml.c:3:
C:/libSBML-3.3.2-expat/win32/include/sbml/xml/XMLExtern.h:65:0: warning: ignoring #pragma warning 
mathml.c: In function 'rmathml_SEXP':
mathml.c:56:12: warning: unused variable 'closure'
gcc  -I"E:/biocbld/BBS-2˜1.9-B/R/include" -g -D_R_=1 -DUSE_R=1 -IC:/libSBML-3.3.2-expat/win32/include -IC:/libSBML-3.3.2-expat/win32/include/expat -IE:/biocbld/BBS-2˜1.9-B/R/include -DLIBSBML3         -O3 -Wall  -std=gnu99 -mtune=core2 -c simulate.c -o simulate.o
gcc -shared -s -static-libgcc -o rsbml.dll tmp.def StringMap.o check.o doc.o dom.o graph.o init.o io.o mathml.o simulate.o -LC:/libSBML-3.3.2-expat/win32/bin -lsbml -LE:/biocbld/BBS-2˜1.9-B/R/bin/i386 -lR
installing to E:/biocbld/bbs-2.9-bioc/meat/rsbml.Rcheck/rsbml/libs/i386
** R
** inst
** preparing package for lazy loading
** help
*** installing help indices
** building package indices ...
*** tangling vignette sources ...
   'quick-start.Rnw' 
** testing if installed package can be loaded
* DONE (rsbml)