| Back to the "Multiple platform build/check report" | A B C D E F G H I J K L M N O [P] Q R S T U V W X Y Z |
| Package 384/516 | Hostname | OS / Arch | BUILD | CHECK | BUILD BIN | ||||
| preprocessCore 1.16.0 Benjamin Milo Bolstad
| wilson2 | Linux (openSUSE 11.4) / x86_64 | OK | OK | |||||
| liverpool | Windows Server 2003 R2 (32-bit) / x64 | OK | OK | OK | |||||
| gewurz | Windows Server 2008 R2 Enterprise SP1 (64-bit) / x64 | [ OK ] | OK | OK | |||||
| moscato1 | Windows Server 2008 R2 Enterprise SP1 (64-bit) / x64 | OK | OK | OK | |||||
| pitt | Mac OS X Leopard (10.5.8) / i386 | OK | OK | OK |
| Package: preprocessCore |
| Version: 1.16.0 |
| Command: chmod a+r preprocessCore -R && D:\biocbld\bbs-2.9-bioc\R\bin\R.exe CMD build --keep-empty-dirs --no-resave-data preprocessCore |
| StartedAt: 2012-01-08 21:19:04 -0800 (Sun, 08 Jan 2012) |
| EndedAt: 2012-01-08 21:19:09 -0800 (Sun, 08 Jan 2012) |
| EllapsedTime: 5.8 seconds |
| RetCode: 0 |
| Status: OK |
| PackageFile: preprocessCore_1.16.0.tar.gz |
| PackageFileSize: 114.8 KiB |
* checking for file 'preprocessCore/DESCRIPTION' ... OK * preparing 'preprocessCore': * checking DESCRIPTION meta-information ... OK * cleaning src * checking for LF line-endings in source and make files * checking for empty or unneeded directories * building 'preprocessCore_1.16.0.tar.gz'