| Back to the "Multiple platform build/check report" | A B C D E F G H I J K L [M] N O P Q R S T U V W X Y Z |
| Package 333/514 | Hostname | OS / Arch | BUILD | CHECK | BUILD BIN | ||||
| mzR 1.0.2 Bernd Fischer
| wilson2 | Linux (openSUSE 11.4) / x86_64 | OK | OK | |||||
| moscato1 | Windows Server 2008 R2 Enterprise SP1 (64-bit) / x64 | OK | [ ERROR ] | OK | |||||
| pitt | Mac OS X Leopard (10.5.8) / i386 | OK | OK | OK |
| Package: mzR |
| Version: 1.0.2 |
| Command: rm -rf mzR.buildbin-libdir && mkdir mzR.buildbin-libdir && D:\biocbld\bbs-2.9-bioc\R\bin\R.exe CMD INSTALL --build --merge-multiarch --library=mzR.buildbin-libdir mzR_1.0.2.tar.gz >mzR-install.out 2>&1 && D:\biocbld\bbs-2.9-bioc\R\bin\R.exe CMD check --library=mzR.buildbin-libdir --install="check:mzR-install.out" --force-multiarch --no-vignettes --timings mzR_1.0.2.tar.gz && mv mzR.buildbin-libdir/* mzR.Rcheck/ && rmdir mzR.buildbin-libdir |
| StartedAt: 2012-03-24 02:14:21 -0700 (Sat, 24 Mar 2012) |
| EndedAt: 2012-03-24 02:14:22 -0700 (Sat, 24 Mar 2012) |
| EllapsedTime: 1.0 seconds |
| RetCode: 1 |
| Status: ERROR |
| CheckDir: None |
| Warnings: NA |
The process cannot access the file because it is being used by another process.