logicFS 1.23.4 Holger Schwender
| Snapshot Date: 2011-10-27 18:22:40 -0700 (Thu, 27 Oct 2011) | | URL: https://hedgehog.fhcrc.org/bioconductor/trunk/madman/Rpacks/logicFS | | Last Changed Rev: 59394 / Revision: 59788 | | Last Changed Date: 2011-10-18 10:20:51 -0700 (Tue, 18 Oct 2011) |
| wilson2 | Linux (openSUSE 11.4) / x86_64 | OK | OK | |
| liverpool | Windows Server 2003 R2 (32-bit) / x64 | OK | OK | OK |
| gewurz | Windows Server 2008 R2 Enterprise SP1 (64-bit) / x64 | OK | OK | OK |
| moscato1 | Windows Server 2008 R2 Enterprise SP1 (64-bit) / x64 | OK | OK | OK |
| pitt | Mac OS X Leopard (10.5.8) / i386 | [ ERROR ] | skipped | skipped |
* checking for file 'logicFS/DESCRIPTION' ... OK
* preparing 'logicFS':
* checking DESCRIPTION meta-information ... OK
* installing the package to re-build vignettes
-----------------------------------
ERROR: dependency 'LogicReg' is not available for package 'logicFS'
* removing '/private/tmp/RtmpzGSIri/Rinst6e3015b5/logicFS'
-----------------------------------
ERROR: package installation failed