| gaga 2.0.0 David Rossell
 
 | Snapshot Date: 2012-01-08 18:22:44 -0800 (Sun, 08 Jan 2012) |  | URL: https://hedgehog.fhcrc.org/bioconductor/branches/RELEASE_2_9/madman/Rpacks/gaga |  | Last Changed Rev: 59920 / Revision: 61898 |  | Last Changed Date: 2011-10-31 15:59:03 -0700 (Mon, 31 Oct 2011) | 
 | wilson2 | Linux (openSUSE 11.4) / x86_64 | OK | OK |  | 
| liverpool | Windows Server 2003 R2 (32-bit) / x64 | OK | OK | [ OK ] | 
| gewurz | Windows Server 2008 R2 Enterprise SP1 (64-bit) / x64 | OK | OK | OK | 
| moscato1 | Windows Server 2008 R2 Enterprise SP1 (64-bit) / x64 | OK | OK | OK | 
| pitt | Mac OS X Leopard (10.5.8) / i386 | OK | OK | OK | 
* installing *source* package 'gaga' ...
** libs
gcc  -I"E:/biocbld/bbs-2.9-bioc/R/include"          -O3 -Wall  -std=gnu99 -mtune=core2 -c cseqdesma.c -o cseqdesma.o
gcc  -I"E:/biocbld/bbs-2.9-bioc/R/include"          -O3 -Wall  -std=gnu99 -mtune=core2 -c cstat.c -o cstat.o
gcc -shared -s -static-libgcc -o gaga.dll tmp.def cseqdesma.o cstat.o -LE:/biocbld/bbs-2.9-bioc/R/bin/i386 -lR
installing to E:/biocbld/bbs-2.9-bioc/meat/gaga.buildbin-libdir/gaga/libs/i386
** R
** inst
** preparing package for lazy loading
** help
*** installing help indices
** building package indices ...
*** tangling vignette sources ...
   'gagamanual.Rnw' 
** testing if installed package can be loaded
* MD5 sums
packaged installation of 'gaga' as gaga_2.0.0.zip
* DONE (gaga)