frma 1.6.0 Matthew N. McCall
 | Snapshot Date: 2012-01-08 18:22:44 -0800 (Sun, 08 Jan 2012) |  | URL: https://hedgehog.fhcrc.org/bioconductor/branches/RELEASE_2_9/madman/Rpacks/frma |  | Last Changed Rev: 59920 / Revision: 61898 |  | Last Changed Date: 2011-10-31 15:59:03 -0700 (Mon, 31 Oct 2011) |  
  | wilson2  | Linux (openSUSE 11.4) / x86_64  |  OK  |  OK  |  | 
| liverpool  | Windows Server 2003 R2 (32-bit) / x64  |  OK  |  OK  | [ OK ] | 
| gewurz  | Windows Server 2008 R2 Enterprise SP1 (64-bit) / x64  |  OK  |  OK  |  OK  | 
| moscato1  | Windows Server 2008 R2 Enterprise SP1 (64-bit) / x64  |  OK  |  OK  |  OK  | 
| pitt  | Mac OS X Leopard (10.5.8) / i386  |  OK  |  OK  |  OK  | 
* installing *source* package 'frma' ...
** R
** inst
** preparing package for lazy loading
Creating a generic function for 'weights' from package 'stats' in package 'frma'
Creating a generic function for 'residuals' from package 'stats' in package 'frma'
** help
*** installing help indices
** building package indices ...
*** tangling vignette sources ...
   'frma.Rnw' 
** testing if installed package can be loaded
* MD5 sums
packaged installation of 'frma' as frma_1.6.0.zip
* DONE (frma)