aroma.light 1.22.0 Henrik Bengtsson
| Snapshot Date: 2012-01-08 18:22:44 -0800 (Sun, 08 Jan 2012) | | URL: https://hedgehog.fhcrc.org/bioconductor/branches/RELEASE_2_9/madman/Rpacks/aroma.light | | Last Changed Rev: 59958 / Revision: 61898 | | Last Changed Date: 2011-11-01 11:41:05 -0700 (Tue, 01 Nov 2011) |
| wilson2 | Linux (openSUSE 11.4) / x86_64 | OK | OK | |
| liverpool | Windows Server 2003 R2 (32-bit) / x64 | OK | OK | OK |
| gewurz | Windows Server 2008 R2 Enterprise SP1 (64-bit) / x64 | [ OK ] | OK | OK |
| moscato1 | Windows Server 2008 R2 Enterprise SP1 (64-bit) / x64 | OK | OK | OK |
| pitt | Mac OS X Leopard (10.5.8) / i386 | OK | WARNINGS | OK |