| Back to the "Multiple platform build/check report" | [A] B C D E F G H I J K L M N O P Q R S T U V W X Y Z |
| Package 4/472 | Hostname | OS / Arch | BUILD | CHECK | BUILD BIN | ||||
| a4Core 1.1.3 Tobias Verbeke
| wilson2 | Linux (openSUSE 11.4) / x86_64 | OK | OK | |||||
| liverpool | Windows Server 2003 R2 (32-bit) / x64 | OK | OK | OK | |||||
| gewurz | Windows Server 2008 R2 Enterprise (64-bit) / x64 | OK | OK | OK | |||||
| moscato1 | Windows Server 2008 R2 Enterprise (64-bit) / x64 | OK | OK | OK | |||||
| pelham | Mac OS X Leopard (10.5.8) / i386 | [ OK ] | OK | OK |
| Package: a4Core |
| Version: 1.1.3 |
| Command: /Library/Frameworks/R.framework/Versions/2.14/Resources/bin/R CMD build --keep-empty-dirs --no-resave-data a4Core |
| StartedAt: 2011-06-22 00:52:12 -0700 (Wed, 22 Jun 2011) |
| EndedAt: 2011-06-22 00:52:12 -0700 (Wed, 22 Jun 2011) |
| EllapsedTime: 0.8 seconds |
| RetCode: 0 |
| Status: OK |
| PackageFile: a4Core_1.1.3.tar.gz |
| PackageFileSize: 3.53 KiB |
* checking for file ‘a4Core/DESCRIPTION’ ... OK * preparing ‘a4Core’: * checking DESCRIPTION meta-information ... OK * checking for LF line-endings in source and make files * checking for empty or unneeded directories * building ‘a4Core_1.1.3.tar.gz’