| Back to the "Multiple platform build/check report" | A B C D E F G H I J K L M N O P Q [R] S T U V W X Y Z |
| Package 369/468 | Hostname | OS / Arch | BUILD | CHECK | BUILD BIN | ||||
| Rdbi 1.27.0 Jianhua Zhang
| wilson2 | Linux (openSUSE 11.4) / x86_64 | OK | OK | |||||
| liverpool | Windows Server 2003 R2 (32-bit) / x64 | [ OK ] | OK | OK | |||||
| gewurz | Windows Server 2008 R2 Enterprise (64-bit) / x64 | OK | OK | OK |
| Package: Rdbi |
| Version: 1.27.0 |
| Command: chmod a+r Rdbi -R && E:\biocbld\bbs-2.9-bioc\R\bin\R.exe CMD build --keep-empty-dirs Rdbi |
| StartedAt: 2011-04-19 09:40:45 -0700 (Tue, 19 Apr 2011) |
| EndedAt: 2011-04-19 09:40:46 -0700 (Tue, 19 Apr 2011) |
| EllapsedTime: 1.8 seconds |
| RetCode: 0 |
| Status: OK |
| PackageFile: Rdbi_1.27.0.tar.gz |
| PackageFileSize: 13.92 KiB |
* checking for file 'Rdbi/DESCRIPTION' ... OK * preparing 'Rdbi': * checking DESCRIPTION meta-information ... OK * checking for LF line-endings in source and make files * checking for empty or unneeded directories * building 'Rdbi_1.27.0.tar.gz'