| Back to the "Multiple platform build/check report" | A B C D E F G H [I] J K L M N O P Q R S T U V W X Y Z |
| Package 252/516 | Hostname | OS / Arch | BUILD | CHECK | BUILD BIN | ||||
| Icens 1.26.0 Bioconductor Package Maintainer
| wilson2 | Linux (openSUSE 11.4) / x86_64 | OK | OK | |||||
| liverpool | Windows Server 2003 R2 (32-bit) / x64 | OK | OK | OK | |||||
| gewurz | Windows Server 2008 R2 Enterprise SP1 (64-bit) / x64 | OK | OK | [ OK ] | |||||
| moscato1 | Windows Server 2008 R2 Enterprise SP1 (64-bit) / x64 | OK | OK | OK | |||||
| pitt | Mac OS X Leopard (10.5.8) / i386 | OK | OK | OK |
| Package: Icens |
| Version: 1.26.0 |
| Command: rm -rf Icens.buildbin-libdir && mkdir Icens.buildbin-libdir && D:\biocbld\bbs-2.9-bioc\R\bin\R.exe CMD INSTALL --build --no-multiarch --library=Icens.buildbin-libdir Icens_1.26.0.tar.gz |
| StartedAt: 2012-01-09 06:38:32 -0800 (Mon, 09 Jan 2012) |
| EndedAt: 2012-01-09 06:38:34 -0800 (Mon, 09 Jan 2012) |
| EllapsedTime: 2.7 seconds |
| RetCode: 0 |
| Status: OK |
| PackageFile: Icens_1.26.0.zip |
| PackageFileSize: 75.1 KiB |
* installing *source* package 'Icens' ... ** R ** data ** inst ** preparing package for lazy loading ** help *** installing help indices ** building package indices ... ** testing if installed package can be loaded * MD5 sums packaged installation of 'Icens' as Icens_1.26.0.zip * DONE (Icens)