GeneTraffic 1.25.0 Daniel Iordan
| Snapshot Date: 2011-08-26 18:22:28 -0700 (Fri, 26 Aug 2011) | | URL: https://hedgehog.fhcrc.org/bioconductor/trunk/madman/Rpacks/GeneTraffic | | Last Changed Rev: 54802 / Revision: 57680 | | Last Changed Date: 2011-04-13 15:36:43 -0700 (Wed, 13 Apr 2011) |
| wilson2 | Linux (openSUSE 11.4) / x86_64 | OK | ERROR | |
| liverpool | Windows Server 2003 R2 (32-bit) / x64 | OK | ERROR | OK |
| gewurz | Windows Server 2008 R2 Enterprise SP1 (64-bit) / x64 | OK | ERROR | OK |
| pitt | Mac OS X Leopard (10.5.8) / i386 | OK | ERROR | [ OK ] |
>>>>>>>
>>>>>>> INSTALLATION WITH 'R CMD INSTALL --preclean --library=GeneTraffic.buildbin-libdir GeneTraffic_1.25.0.tar.gz'
>>>>>>>
* installing *source* package 'GeneTraffic' ...
** R
** inst
** preparing package for lazy loading
** help
*** installing help indices
** building package indices ...
** testing if installed package can be loaded
* DONE (GeneTraffic)