ChemmineR 2.6.1 ChemmineR Team
 | Snapshot Date: 2012-01-08 18:22:44 -0800 (Sun, 08 Jan 2012) |  | URL: https://hedgehog.fhcrc.org/bioconductor/branches/RELEASE_2_9/madman/Rpacks/ChemmineR |  | Last Changed Rev: 61528 / Revision: 61898 |  | Last Changed Date: 2011-12-21 20:50:07 -0800 (Wed, 21 Dec 2011) |  
  | wilson2  | Linux (openSUSE 11.4) / x86_64  |  OK  |  OK  |  | 
| liverpool  | Windows Server 2003 R2 (32-bit) / x64  |  OK  | [ OK ] |  OK  | 
| gewurz  | Windows Server 2008 R2 Enterprise SP1 (64-bit) / x64  |  OK  |  OK  |  OK  | 
| moscato1  | Windows Server 2008 R2 Enterprise SP1 (64-bit) / x64  |  OK  |  OK  |  OK  | 
| pitt  | Mac OS X Leopard (10.5.8) / i386  |  OK  |  OK  |  OK  | 
* using log directory 'E:/biocbld/bbs-2.9-bioc/meat/ChemmineR.Rcheck'
* using R version 2.14.1 (2011-12-22)
* using platform: i386-pc-mingw32 (32-bit)
* using session charset: ISO8859-1
* using option '--no-vignettes'
* checking for file 'ChemmineR/DESCRIPTION' ... OK
* checking extension type ... Package
* this is package 'ChemmineR' version '2.6.1'
* checking package namespace information ... OK
* checking package dependencies ... OK
* checking if this is a source package ... OK
* checking if there is a namespace ... OK
* checking whether package 'ChemmineR' can be installed ... OK
* checking installed package size ... OK
* checking package directory ... OK
* checking for portable file names ... OK
* checking DESCRIPTION meta-information ... OK
* checking top-level files ... OK
* checking index information ... OK
* checking package subdirectories ... OK
* checking R files for non-ASCII characters ... OK
* checking R files for syntax errors ... OK
* checking whether the package can be loaded ... OK
* checking whether the package can be loaded with stated dependencies ... OK
* checking whether the package can be unloaded cleanly ... OK
* checking whether the namespace can be loaded with stated dependencies ... OK
* checking whether the namespace can be unloaded cleanly ... OK
* checking for unstated dependencies in R code ... OK
* checking S3 generic/method consistency ... OK
* checking replacement functions ... OK
* checking foreign function calls ... OK
* checking R code for possible problems ... NOTE
.data.frame.to.str: no visible binding for global variable 'string'
.gen_atom_pair: no visible global function definition for
  'Descriptors_get_len'
.gen_atom_pair: no visible global function definition for
  'Descriptors_get_descriptor'
.parse: no visible global function definition for 'Descriptors'
.parse: no visible global function definition for
  'Descriptors_parse_sdf'
cmp.parse: no visible global function definition for 'batch_parse'
cmp.parse1: no visible global function definition for
  'delete_Descriptors'
datablock2ma: no visible binding for global variable 'sdfset'
sdf_to_desc: no visible global function definition for
  'delete_Descriptors'
sdfs_to_desc: no visible global function definition for 'batch_parse'
* checking Rd files ... OK
* checking Rd metadata ... OK
* checking Rd cross-references ... OK
* checking for missing documentation entries ... OK
* checking for code/documentation mismatches ... OK
* checking Rd \usage sections ... OK
* checking Rd contents ... OK
* checking for unstated dependencies in examples ... OK
* checking contents of 'data' directory ... OK
* checking data for non-ASCII characters ... OK
* checking data for ASCII and uncompressed saves ... OK
* checking examples ... OK
* checking for unstated dependencies in vignettes ... NOTE
'library' or 'require' calls not declared from:
  'gplots' 'scatterplot3d'
* checking package vignettes in 'inst/doc' ... OK
* checking running R code from vignettes ... SKIPPED
* checking re-building of vignettes ... SKIPPED
* checking PDF version of manual ... OK
 
* installing *source* package 'ChemmineR' ...
** R
** data
** inst
** preparing package for lazy loading
Creating a generic function for 'plot' from package 'graphics' in package 'ChemmineR'
** help
*** installing help indices
** building package indices ...
*** tangling vignette sources ...
   'ChemmineR.Rnw' 
** testing if installed package can be loaded
* DONE (ChemmineR)