| Back to the "Multiple platform build/check report" | A [B] C D E F G H I J K L M N O P Q R S T U V W X Y Z |
| Package 62/470 | Hostname | OS / Arch | BUILD | CHECK | BUILD BIN | ||||
| Bioconductor 1.1.9 Biocore Team c/o BioC user list
| wilson2 | Linux (openSUSE 11.4) / x86_64 | OK | OK | |||||
| liverpool | Windows Server 2003 R2 (32-bit) / x64 | OK | OK | OK | |||||
| gewurz | Windows Server 2008 R2 Enterprise (64-bit) / x64 | OK | OK | OK | |||||
| moscato1 | Windows Server 2008 R2 Enterprise (64-bit) / x64 | [ OK ] | OK | OK | |||||
| pelham | Mac OS X Leopard (10.5.8) / i386 | OK | OK | OK |
| Package: Bioconductor |
| Version: 1.1.9 |
| Command: chmod a+r Bioconductor -R && D:\biocbld\bbs-2.9-bioc\R\bin\R.exe CMD build --keep-empty-dirs --no-resave-data Bioconductor |
| StartedAt: 2011-06-14 13:53:17 -0700 (Tue, 14 Jun 2011) |
| EndedAt: 2011-06-14 13:53:18 -0700 (Tue, 14 Jun 2011) |
| EllapsedTime: 1.0 seconds |
| RetCode: 0 |
| Status: OK |
| PackageFile: Bioconductor_1.1.9.tar.gz |
| PackageFileSize: 5.05 KiB |
* checking for file 'Bioconductor/DESCRIPTION' ... OK * preparing 'Bioconductor': * checking DESCRIPTION meta-information ... OK * checking for LF line-endings in source and make files * checking for empty or unneeded directories * building 'Bioconductor_1.1.9.tar.gz'