vsn 3.21.1 Wolfgang Huber
 | Snapshot Date: 2011-07-06 19:21:50 -0700 (Wed, 06 Jul 2011) |  | URL: https://hedgehog.fhcrc.org/bioconductor/trunk/madman/Rpacks/vsn |  | Last Changed Rev: 55825 / Revision: 56603 |  | Last Changed Date: 2011-05-25 09:52:23 -0700 (Wed, 25 May 2011) |  
  | wilson2  | Linux (openSUSE 11.4) / x86_64  |  OK  |  OK  |  | 
| liverpool  | Windows Server 2003 R2 (32-bit) / x64  |  OK  |  OK  |  OK  | 
| gewurz  | Windows Server 2008 R2 Enterprise (64-bit) / x64  |  OK  |  OK  | [ OK ] | 
| moscato1  | Windows Server 2008 R2 Enterprise (64-bit) / x64  |  OK  |  OK  |  OK  | 
| pitt  | Mac OS X Leopard (10.5.8) / i386  |  OK  |  OK  |  OK  | 
* installing *source* package 'vsn' ...
** libs
x86_64-w64-mingw32-gcc  -I"D:/biocbld/bbs-2.9-bioc/R/include"          -O2 -Wall  -std=gnu99 -c init.c -o init.o
x86_64-w64-mingw32-gcc  -I"D:/biocbld/bbs-2.9-bioc/R/include"          -O2 -Wall  -std=gnu99 -c vsn.c -o vsn.o
x86_64-w64-mingw32-gcc  -I"D:/biocbld/bbs-2.9-bioc/R/include"          -O2 -Wall  -std=gnu99 -c vsn2.c -o vsn2.o
x86_64-w64-mingw32-gcc -shared -s -static-libgcc -o vsn.dll tmp.def init.o vsn.o vsn2.o -LD:/biocbld/bbs-2.9-bioc/R/bin/x64 -lR
installing to D:/biocbld/bbs-2.9-bioc/meat/vsn.buildbin-libdir/vsn/libs/x64
** R
** data
** inst
** preparing package for lazy loading
Welcome to Bioconductor
  Vignettes contain introductory material. To view, type
  'browseVignettes()'. To cite Bioconductor, see
  'citation("Biobase")' and for packages 'citation("pkgname")'.
Creating a generic function for "logLik" from package "stats" in package "vsn"
Creating a generic function for "coef" from package "stats" in package "vsn"
Creating a generic function for "coefficients" from package "stats" in package "vsn"
** help
*** installing help indices
** building package indices ...
*** tangling vignette sources ...
   'convergence2.Rnw' 
   'likelihoodcomputations.Rnw' 
   'vsn.Rnw' 
** testing if installed package can be loaded
* MD5 sums
packaged installation of 'vsn' as vsn_3.21.1.zip
* DONE (vsn)