tspair 1.11.0 Jeffrey T. Leek
 | Snapshot Date: 2011-07-06 19:21:50 -0700 (Wed, 06 Jul 2011) |  | URL: https://hedgehog.fhcrc.org/bioconductor/trunk/madman/Rpacks/tspair |  | Last Changed Rev: 54802 / Revision: 56603 |  | Last Changed Date: 2011-04-13 15:36:43 -0700 (Wed, 13 Apr 2011) |  
  | wilson2  | Linux (openSUSE 11.4) / x86_64  |  OK  |  OK  |  | 
| liverpool  | Windows Server 2003 R2 (32-bit) / x64  |  OK  |  OK  |  OK  | 
| gewurz  | Windows Server 2008 R2 Enterprise (64-bit) / x64  |  OK  |  OK  |  OK  | 
| moscato1  | Windows Server 2008 R2 Enterprise (64-bit) / x64  |  OK  |  OK  | [ OK ] | 
| pitt  | Mac OS X Leopard (10.5.8) / i386  |  OK  |  OK  |  OK  | 
install for i386
* installing *source* package 'tspair' ...
** libs
gcc  -I"D:/biocbld/BBS-2˜1.9-B/R/include"          -O3 -Wall  -std=gnu99 -mtune=core2 -c tsp.c -o tsp.o
gcc -shared -s -static-libgcc -o tspair.dll tmp.def tsp.o -LD:/biocbld/BBS-2˜1.9-B/R/bin/i386 -lR
installing to D:/biocbld/bbs-2.9-bioc/meat/tspair.buildbin-libdir/tspair/libs/i386
** R
** data
** inst
** preparing package for lazy loading
Welcome to Bioconductor
  Vignettes contain introductory material. To view, type
  'browseVignettes()'. To cite Bioconductor, see
  'citation("Biobase")' and for packages 'citation("pkgname")'.
** help
*** installing help indices
** building package indices ...
*** tangling vignette sources ...
   'tsp.Rnw' 
** testing if installed package can be loaded
add DLL for x64
* installing *source* package 'tspair' ...
** libs
x86_64-w64-mingw32-gcc  -I"D:/biocbld/BBS-2˜1.9-B/R/include"          -O2 -Wall  -std=gnu99 -mtune=core2 -c tsp.c -o tsp.o
x86_64-w64-mingw32-gcc -shared -s -static-libgcc -o tspair.dll tmp.def tsp.o -LD:/biocbld/BBS-2˜1.9-B/R/bin/x64 -lR
installing to D:/biocbld/bbs-2.9-bioc/meat/tspair.buildbin-libdir/tspair/libs/x64
** testing if installed package can be loaded
* MD5 sums
packaged installation of 'tspair' as tspair_1.11.0.zip
* DONE (tspair)