tkWidgets 1.31.0 J. Zhang
 | Snapshot Date: 2011-06-21 19:21:48 -0700 (Tue, 21 Jun 2011) |  | URL: https://hedgehog.fhcrc.org/bioconductor/trunk/madman/Rpacks/tkWidgets |  | Last Changed Rev: 54802 / Revision: 56351 |  | Last Changed Date: 2011-04-13 15:36:43 -0700 (Wed, 13 Apr 2011) |  
  | wilson2  | Linux (openSUSE 11.4) / x86_64  |  OK  |  OK  |  | 
| liverpool  | Windows Server 2003 R2 (32-bit) / x64  |  OK  |  OK  |  OK  | 
| gewurz  | Windows Server 2008 R2 Enterprise (64-bit) / x64  |  OK  |  OK  |  OK  | 
| moscato1  | Windows Server 2008 R2 Enterprise (64-bit) / x64  |  OK  |  OK  |  OK  | 
| pelham  | Mac OS X Leopard (10.5.8) / i386  |  OK  |  OK  | [ OK ] | 
>>>>>>> 
>>>>>>> INSTALLATION WITH 'R CMD INSTALL --preclean --library=tkWidgets.buildbin-libdir tkWidgets_1.31.0.tar.gz'
>>>>>>> 
* installing *source* package ‘tkWidgets’ ...
** R
** inst
** preparing package for lazy loading
Loading required package: tcltk
Loading Tcl/Tk interface ... done
** help
*** installing help indices
** building package indices ...
*** tangling vignette sources ...
   ‘importWizard.Rnw’ 
   ‘tkWidgets.Rnw’ 
** testing if installed package can be loaded
* DONE (tkWidgets)