survcomp 1.3.5 Benjamin Haibe-Kains , Markus Schroeder
 | Snapshot Date: 2011-07-06 19:21:50 -0700 (Wed, 06 Jul 2011) |  | URL: https://hedgehog.fhcrc.org/bioconductor/trunk/madman/Rpacks/survcomp |  | Last Changed Rev: 56592 / Revision: 56603 |  | Last Changed Date: 2011-07-06 11:44:33 -0700 (Wed, 06 Jul 2011) |  
  | wilson2  | Linux (openSUSE 11.4) / x86_64  |  OK  |  OK  |  | 
| liverpool  | Windows Server 2003 R2 (32-bit) / x64  |  OK  |  OK  |  OK  | 
| gewurz  | Windows Server 2008 R2 Enterprise (64-bit) / x64  |  OK  |  OK  | [ OK ] | 
| moscato1  | Windows Server 2008 R2 Enterprise (64-bit) / x64  |  OK  |  OK  |  OK  | 
| pitt  | Mac OS X Leopard (10.5.8) / i386  |  OK  |  OK  |  OK  | 
* installing *source* package 'survcomp' ...
** libs
x86_64-w64-mingw32-gcc  -I"D:/biocbld/bbs-2.9-bioc/R/include"          -O2 -Wall  -std=gnu99 -c concordance.index.c -o concordance.index.o
x86_64-w64-mingw32-gcc -shared -s -static-libgcc -o survcomp.dll tmp.def concordance.index.o -LD:/biocbld/bbs-2.9-bioc/R/bin/x64 -lR
installing to D:/biocbld/bbs-2.9-bioc/meat/survcomp.buildbin-libdir/survcomp/libs/x64
** R
** data
** inst
** preparing package for lazy loading
Loading required package: splines
KernSmooth 2.23 loaded
Copyright M. P. Wand 1997-2009
Loading required package: rpart
Loading required package: MASS
Loading required package: mlbench
Loading required package: class
Loading required package: nnet
** help
*** installing help indices
** building package indices ...
*** tangling vignette sources ...
   'survcomp.Rnw' 
** testing if installed package can be loaded
* MD5 sums
packaged installation of 'survcomp' as survcomp_1.3.5.zip
* DONE (survcomp)