simpleaffy 2.29.0 Crispin Miller
 | Snapshot Date: 2011-07-06 19:21:50 -0700 (Wed, 06 Jul 2011) |  | URL: https://hedgehog.fhcrc.org/bioconductor/trunk/madman/Rpacks/simpleaffy |  | Last Changed Rev: 54802 / Revision: 56603 |  | Last Changed Date: 2011-04-13 15:36:43 -0700 (Wed, 13 Apr 2011) |  
  | wilson2  | Linux (openSUSE 11.4) / x86_64  |  OK  |  OK  |  | 
| liverpool  | Windows Server 2003 R2 (32-bit) / x64  |  OK  |  OK  | [ OK ] | 
| gewurz  | Windows Server 2008 R2 Enterprise (64-bit) / x64  |  OK  |  OK  |  OK  | 
| moscato1  | Windows Server 2008 R2 Enterprise (64-bit) / x64  |  OK  |  OK  |  OK  | 
| pitt  | Mac OS X Leopard (10.5.8) / i386  |  OK  |  OK  |  OK  | 
* installing *source* package 'simpleaffy' ...
** libs
gcc  -I"E:/biocbld/bbs-2.9-bioc/R/include"          -O3 -Wall  -std=gnu99 -c simpleaffy.c -o simpleaffy.o
gcc -shared -s -static-libgcc -o simpleaffy.dll tmp.def simpleaffy.o -LE:/biocbld/bbs-2.9-bioc/R/bin/i386 -lR
installing to E:/biocbld/bbs-2.9-bioc/meat/simpleaffy.buildbin-libdir/simpleaffy/libs/i386
** R
** data
** inst
** preparing package for lazy loading
Loading required package: Biobase
Welcome to Bioconductor
  Vignettes contain introductory material. To view, type
  'browseVignettes()'. To cite Bioconductor, see
  'citation("Biobase")' and for packages 'citation("pkgname")'.
** help
*** installing help indices
** building package indices ...
*** tangling vignette sources ...
   'simpleAffy.Rnw' 
** testing if installed package can be loaded
* MD5 sums
packaged installation of 'simpleaffy' as simpleaffy_2.29.0.zip
* DONE (simpleaffy)