rnaSeqMap 2.7.7 Michal Okoniewski
 | Snapshot Date: 2011-07-06 19:21:50 -0700 (Wed, 06 Jul 2011) |  | URL: https://hedgehog.fhcrc.org/bioconductor/trunk/madman/Rpacks/rnaSeqMap |  | Last Changed Rev: 56090 / Revision: 56603 |  | Last Changed Date: 2011-06-09 17:02:42 -0700 (Thu, 09 Jun 2011) |  
  | wilson2  | Linux (openSUSE 11.4) / x86_64  |  OK  |  OK  |  | 
| liverpool  | Windows Server 2003 R2 (32-bit) / x64  |  OK  |  OK  |  OK  | 
| gewurz  | Windows Server 2008 R2 Enterprise (64-bit) / x64  |  OK  |  OK  |  OK  | 
| moscato1  | Windows Server 2008 R2 Enterprise (64-bit) / x64  | [ ERROR ] |  skipped  |  skipped  | 
| pitt  | Mac OS X Leopard (10.5.8) / i386  |  OK  |  OK  |  OK  | 
* checking for file 'rnaSeqMap/DESCRIPTION' ... OK
* preparing 'rnaSeqMap':
* checking DESCRIPTION meta-information ... OK
* cleaning src
* installing the package to re-build vignettes
      -----------------------------------
ERROR: dependencies 'xmapcore', 'RMySQL' are not available for package 'rnaSeqMap'
* removing 'D:/biocbld/bbs-2.9-bioc/tmpdir/RtmpQlJDsv/Rinst7ab97670/rnaSeqMap'
      -----------------------------------
ERROR: package installation failed