phenoTest 1.1.1 Evarist Planet
 | Snapshot Date: 2011-07-06 19:21:50 -0700 (Wed, 06 Jul 2011) |  | URL: https://hedgehog.fhcrc.org/bioconductor/trunk/madman/Rpacks/phenoTest |  | Last Changed Rev: 56582 / Revision: 56603 |  | Last Changed Date: 2011-07-06 01:04:27 -0700 (Wed, 06 Jul 2011) |  
  | wilson2  | Linux (openSUSE 11.4) / x86_64  | [ ERROR ] |  skipped  |  | 
| liverpool  | Windows Server 2003 R2 (32-bit) / x64  |  ERROR  |  skipped  |  skipped  | 
| gewurz  | Windows Server 2008 R2 Enterprise (64-bit) / x64  |  ERROR  |  skipped  |  skipped  | 
| moscato1  | Windows Server 2008 R2 Enterprise (64-bit) / x64  |  ERROR  |  skipped  |  skipped  | 
| pitt  | Mac OS X Leopard (10.5.8) / i386  |  ERROR  |  skipped  |  skipped  | 
* checking for file ‘phenoTest/DESCRIPTION’ ... OK
* preparing ‘phenoTest’:
* checking DESCRIPTION meta-information ... OK
* cleaning src
* installing the package to re-build vignettes
      -----------------------------------
* installing *source* package ‘phenoTest’ ...
** libs
gcc -std=gnu99 -I/home/biocbuild/bbs-2.9-bioc/R/include  -I/usr/local/include    -fpic  -g -O2 -Wall -c getEs.c -o getEs.o
gcc -std=gnu99 -shared -L/usr/local/lib64 -o phenoTest.so getEs.o -L/home/biocbuild/bbs-2.9-bioc/R/lib -lR
installing to /tmp/RtmpA6FYV8/Rinst2046cc6e/phenoTest/libs
** R
** data
** inst
** preparing package for lazy loading
Welcome to Bioconductor
  Vignettes contain introductory material. To view, type
  ‘browseVignettes()’. To cite Bioconductor, see
  ‘citation("Biobase")’ and for packages ‘citation("pkgname")’.
Loading required package: AnnotationDbi
Loading required package: DBI
** help
*** installing help indices
** building package indices ...
*** tangling vignette sources ...
   ‘phenoTest.Rnw’ 
** testing if installed package can be loaded
Error in namespaceExport(ns, exports) : 
  undefined exports: getEsPositions, findCopyNumber, genesInArea
Error: loading failed
Execution halted
ERROR: loading failed
* removing ‘/tmp/RtmpA6FYV8/Rinst2046cc6e/phenoTest’
      -----------------------------------
ERROR: package installation failed