phenoDist 1.1.0 Xian Zhang
 | Snapshot Date: 2011-06-02 07:21:07 -0700 (Thu, 02 Jun 2011) |  | URL: https://hedgehog.fhcrc.org/bioconductor/trunk/madman/Rpacks/phenoDist |  | Last Changed Rev: 54802 / Revision: 55954 |  | Last Changed Date: 2011-04-13 15:36:43 -0700 (Wed, 13 Apr 2011) |  
  | wilson2  | Linux (openSUSE 11.4) / x86_64  |  OK  |  OK  |  | 
| liverpool  | Windows Server 2003 R2 (32-bit) / x64  |  OK  |  OK  | [ OK ] | 
| gewurz  | Windows Server 2008 R2 Enterprise (64-bit) / x64  | N O T   S U P P O R T E D | 
| pelham  | Mac OS X Leopard (10.5.8) / i386  | N O T   S U P P O R T E D | 
* installing *source* package 'phenoDist' ...
** R
** inst
** preparing package for lazy loading
Loading required package: EBImage
Loading required package: abind
Loading required package: cellHTS2
Loading required package: RColorBrewer
Loading required package: Biobase
Welcome to Bioconductor
  Vignettes contain introductory material. To view, type
  'browseVignettes()'. To cite Bioconductor, see
  'citation("Biobase")' and for packages 'citation("pkgname")'.
Attaching package: 'Biobase'
The following object(s) are masked from 'package:EBImage':
    channel, combine
Loading required package: genefilter
Loading required package: splots
Loading required package: vsn
Loading required package: hwriter
Loading required package: locfit
Loading required package: akima
Loading required package: lattice
locfit 1.5-6 	 2010-01-20 
Loading required package: grid
Scalable Robust Estimators with High Breakdown Point (version 1.3-00)
Loading required package: class
** help
*** installing help indices
** building package indices ...
*** tangling vignette sources ...
   'phenoDist.Rnw' 
** testing if installed package can be loaded
locfit 1.5-6 	 2010-01-20 
Scalable Robust Estimators with High Breakdown Point (version 1.3-00)
* MD5 sums
packaged installation of 'phenoDist' as phenoDist_1.1.0.zip
* DONE (phenoDist)