oneChannelGUI 1.19.4 Raffaele A Calogero
 | Snapshot Date: 2011-07-06 19:21:50 -0700 (Wed, 06 Jul 2011) |  | URL: https://hedgehog.fhcrc.org/bioconductor/trunk/madman/Rpacks/oneChannelGUI |  | Last Changed Rev: 56323 / Revision: 56603 |  | Last Changed Date: 2011-06-20 02:30:33 -0700 (Mon, 20 Jun 2011) |  
  | wilson2  | Linux (openSUSE 11.4) / x86_64  |  OK  |  WARNINGS  |  | 
| liverpool  | Windows Server 2003 R2 (32-bit) / x64  |  OK  |  WARNINGS  |  OK  | 
| gewurz  | Windows Server 2008 R2 Enterprise (64-bit) / x64  |  OK  |  WARNINGS  |  OK  | 
| moscato1  | Windows Server 2008 R2 Enterprise (64-bit) / x64  |  OK  |  WARNINGS  | [ OK ] | 
| pitt  | Mac OS X Leopard (10.5.8) / i386  |  OK  |  WARNINGS  |  OK  | 
install for i386
* installing *source* package 'oneChannelGUI' ...
** R
** data
** inst
** preparing package for lazy loading
Welcome to Bioconductor
  Vignettes contain introductory material. To view, type
  'browseVignettes()'. To cite Bioconductor, see
  'citation("Biobase")' and for packages 'citation("pkgname")'.
Loading required package: tcltk
Loading Tcl/Tk interface ... done
Loading required package: affy
Loading required package: affyio
Loading required package: widgetTools
Loading required package: DynDoc
Loading required package: tools
Loading required package: Category
Loading required package: AnnotationDbi
Loading required package: graph
Loading required package: DBI
Attaching package: 'IRanges'
The following object(s) are masked from 'package:graph':
    union
The following object(s) are masked from 'package:Biobase':
    updateObject
The following object(s) are masked from 'package:base':
    Map, cbind, eval, intersect, mapply, order, paste, pmax, pmax.int,
    pmin, pmin.int, rbind, rep.int, setdiff, table, union
Attaching package: 'baySeq'
The following object(s) are masked from 'package:IRanges':
    rbind
The following object(s) are masked from 'package:base':
    rbind
** help
*** installing help indices
** building package indices ...
*** tangling vignette sources ...
   'Exon-level.analysis.Rnw' 
   'RNAseq.Rnw' 
   'gene-level.analysis.Rnw' 
   'install.Rnw' 
   'standAloneFunctions.Rnw' 
   'whatIsNew.Rnw' 
** testing if installed package can be loaded
To begin, type oneChannelGUI()
add DLL for x64
* installing *source* package 'oneChannelGUI' ...
** testing if installed package can be loaded
To begin, type oneChannelGUI()
* MD5 sums
packaged installation of 'oneChannelGUI' as oneChannelGUI_1.19.4.zip
* DONE (oneChannelGUI)