mcaGUI 1.1.0 Wade K. Copeland
 | Snapshot Date: 2011-07-06 19:21:50 -0700 (Wed, 06 Jul 2011) |  | URL: https://hedgehog.fhcrc.org/bioconductor/trunk/madman/Rpacks/mcaGUI |  | Last Changed Rev: 54802 / Revision: 56603 |  | Last Changed Date: 2011-04-13 15:36:43 -0700 (Wed, 13 Apr 2011) |  
  | wilson2  | Linux (openSUSE 11.4) / x86_64  |  OK  |  OK  |  | 
| liverpool  | Windows Server 2003 R2 (32-bit) / x64  |  OK  |  OK  | [ OK ] | 
| gewurz  | Windows Server 2008 R2 Enterprise (64-bit) / x64  |  OK  |  OK  |  OK  | 
| moscato1  | Windows Server 2008 R2 Enterprise (64-bit) / x64  |  OK  |  ERROR  |  ERROR  | 
| pitt  | Mac OS X Leopard (10.5.8) / i386  |  OK  |  OK  |  OK  | 
* installing *source* package 'mcaGUI' ...
** R
** inst
** help
*** installing help indices
** building package indices ...
** testing if installed package can be loaded
================================================================================
Welcome to OTUbase version 1.3.0
Loading mcaGUI()
[1] "You can access the mcaGUI vignette by browsing to:  "
[1] "E:/biocbld/bbs-2.9-bioc/meat/mcaGUI.buildbin-libdir/mcaGUI/doc/An_Introduction_and_User_Guide_for_mcaGUI.pdf"
GUI requires an interactive environment
* MD5 sums
packaged installation of 'mcaGUI' as mcaGUI_1.1.0.zip
* DONE (mcaGUI)