macat 1.27.1 Joern Toedling
 | Snapshot Date: 2011-07-06 19:21:50 -0700 (Wed, 06 Jul 2011) |  | URL: https://hedgehog.fhcrc.org/bioconductor/trunk/madman/Rpacks/macat |  | Last Changed Rev: 55978 / Revision: 56603 |  | Last Changed Date: 2011-06-03 03:10:24 -0700 (Fri, 03 Jun 2011) |  
  | wilson2  | Linux (openSUSE 11.4) / x86_64  |  OK  |  WARNINGS  |  | 
| liverpool  | Windows Server 2003 R2 (32-bit) / x64  |  OK  |  WARNINGS  | [ OK ] | 
| gewurz  | Windows Server 2008 R2 Enterprise (64-bit) / x64  |  OK  |  WARNINGS  |  OK  | 
| moscato1  | Windows Server 2008 R2 Enterprise (64-bit) / x64  |  OK  |  WARNINGS  |  OK  | 
| pitt  | Mac OS X Leopard (10.5.8) / i386  |  OK  |  WARNINGS  |  OK  | 
* installing *source* package 'macat' ...
** R
** data
** demo
** inst
** preparing package for lazy loading
Welcome to Bioconductor
  Vignettes contain introductory material. To view, type
  'browseVignettes()'. To cite Bioconductor, see
  'citation("Biobase")' and for packages 'citation("pkgname")'.
Loading required package: AnnotationDbi
** help
*** installing help indices
** building package indices ...
*** tangling vignette sources ...
   'macat.Rnw' 
** testing if installed package can be loaded
Loading MicroArray Chromosome Analysis Tool...
Loading required packages...
Type 'demo(macatdemo)' for a quick tour...
* MD5 sums
packaged installation of 'macat' as macat_1.27.1.zip
* DONE (macat)