logitT 1.11.0 Tobias Guennel
 | Snapshot Date: 2011-07-06 19:21:50 -0700 (Wed, 06 Jul 2011) |  | URL: https://hedgehog.fhcrc.org/bioconductor/trunk/madman/Rpacks/logitT |  | Last Changed Rev: 54802 / Revision: 56603 |  | Last Changed Date: 2011-04-13 15:36:43 -0700 (Wed, 13 Apr 2011) |  
  | wilson2  | Linux (openSUSE 11.4) / x86_64  |  OK  |  OK  |  | 
| liverpool  | Windows Server 2003 R2 (32-bit) / x64  |  OK  |  OK  |  OK  | 
| gewurz  | Windows Server 2008 R2 Enterprise (64-bit) / x64  |  OK  |  OK  | [ OK ] | 
| moscato1  | Windows Server 2008 R2 Enterprise (64-bit) / x64  |  OK  |  OK  |  OK  | 
| pitt  | Mac OS X Leopard (10.5.8) / i386  |  OK  |  OK  |  OK  | 
* installing *source* package 'logitT' ...
** libs
x86_64-w64-mingw32-gcc  -I"D:/biocbld/bbs-2.9-bioc/R/include"          -O2 -Wall  -std=gnu99 -c logitTfunc.c -o logitTfunc.o
x86_64-w64-mingw32-gcc -shared -s -static-libgcc -o logitT.dll tmp.def logitTfunc.o -LD:/biocbld/bbs-2.9-bioc/R/bin/x64 -lR
installing to D:/biocbld/bbs-2.9-bioc/meat/logitT.buildbin-libdir/logitT/libs/x64
** R
** inst
** preparing package for lazy loading
Loading required package: Biobase
Welcome to Bioconductor
  Vignettes contain introductory material. To view, type
  'browseVignettes()'. To cite Bioconductor, see
  'citation("Biobase")' and for packages 'citation("pkgname")'.
** help
*** installing help indices
** building package indices ...
*** tangling vignette sources ...
   'logitT.Rnw' 
** testing if installed package can be loaded
* MD5 sums
packaged installation of 'logitT' as logitT_1.11.0.zip
* DONE (logitT)