limma 3.9.11 Gordon Smyth
 | Snapshot Date: 2011-07-06 19:21:50 -0700 (Wed, 06 Jul 2011) |  | URL: https://hedgehog.fhcrc.org/bioconductor/trunk/madman/Rpacks/limma |  | Last Changed Rev: 56534 / Revision: 56603 |  | Last Changed Date: 2011-07-04 00:20:27 -0700 (Mon, 04 Jul 2011) |  
  | wilson2  | Linux (openSUSE 11.4) / x86_64  |  OK  |  OK  |  | 
| liverpool  | Windows Server 2003 R2 (32-bit) / x64  |  OK  |  OK  | [ OK ] | 
| gewurz  | Windows Server 2008 R2 Enterprise (64-bit) / x64  |  OK  |  OK  |  OK  | 
| moscato1  | Windows Server 2008 R2 Enterprise (64-bit) / x64  |  OK  |  OK  |  OK  | 
| pitt  | Mac OS X Leopard (10.5.8) / i386  |  OK  |  OK  |  OK  | 
* installing *source* package 'limma' ...
** libs
gcc  -I"E:/biocbld/bbs-2.9-bioc/R/include"          -O3 -Wall  -std=gnu99 -c normexp.c -o normexp.o
normexp.c: In function 'fit_saddle_nelder_mead':
normexp.c:153:3: warning: floating constant exceeds range of 'double'
gcc -shared -s -static-libgcc -o limma.dll tmp.def normexp.o -LE:/biocbld/bbs-2.9-bioc/R/bin/i386 -lR
installing to E:/biocbld/bbs-2.9-bioc/meat/limma.buildbin-libdir/limma/libs/i386
** R
** inst
** preparing package for lazy loading
** help
*** installing help indices
** building package indices ...
*** tangling vignette sources ...
   'limma.Rnw' 
** testing if installed package can be loaded
* MD5 sums
packaged installation of 'limma' as limma_3.9.11.zip
* DONE (limma)