joda 1.1.0 Ewa Szczurek
 | Snapshot Date: 2011-07-06 19:21:50 -0700 (Wed, 06 Jul 2011) |  | URL: https://hedgehog.fhcrc.org/bioconductor/trunk/madman/Rpacks/joda |  | Last Changed Rev: 54802 / Revision: 56603 |  | Last Changed Date: 2011-04-13 15:36:43 -0700 (Wed, 13 Apr 2011) |  
  | wilson2  | Linux (openSUSE 11.4) / x86_64  |  OK  |  OK  |  | 
| liverpool  | Windows Server 2003 R2 (32-bit) / x64  |  OK  |  OK  |  OK  | 
| gewurz  | Windows Server 2008 R2 Enterprise (64-bit) / x64  |  OK  |  OK  |  OK  | 
| moscato1  | Windows Server 2008 R2 Enterprise (64-bit) / x64  |  OK  |  OK  | [ OK ] | 
| pitt  | Mac OS X Leopard (10.5.8) / i386  |  OK  |  OK  |  OK  | 
install for i386
* installing *source* package 'joda' ...
** R
** data
** inst
** preparing package for lazy loading
Loading required package: mvtnorm
Loading required package: car
Loading required package: MASS
Loading required package: nnet
Loading required package: survival
Loading required package: splines
Loading required package: lattice
Loading required package: combinat
Attaching package: 'combinat'
The following object(s) are masked from 'package:utils':
    combn
Loading required package: graph
** help
*** installing help indices
** building package indices ...
*** tangling vignette sources ...
   'JodaVignette.Rnw' 
** testing if installed package can be loaded
add DLL for x64
* installing *source* package 'joda' ...
** testing if installed package can be loaded
* MD5 sums
packaged installation of 'joda' as joda_1.1.0.zip
* DONE (joda)