imageHTS 1.3.1 Gregoire Pau
 | Snapshot Date: 2011-07-06 19:21:50 -0700 (Wed, 06 Jul 2011) |  | URL: https://hedgehog.fhcrc.org/bioconductor/trunk/madman/Rpacks/imageHTS |  | Last Changed Rev: 56548 / Revision: 56603 |  | Last Changed Date: 2011-07-05 01:00:39 -0700 (Tue, 05 Jul 2011) |  
  | wilson2  | Linux (openSUSE 11.4) / x86_64  |  OK  |  OK  |  | 
| liverpool  | Windows Server 2003 R2 (32-bit) / x64  |  ERROR  |  skipped  |  skipped  | 
| gewurz  | Windows Server 2008 R2 Enterprise (64-bit) / x64  | N O T   S U P P O R T E D | 
| moscato1  | Windows Server 2008 R2 Enterprise (64-bit) / x64  | [ ERROR ] |  skipped  |  skipped  | 
| pitt  | Mac OS X Leopard (10.5.8) / i386  | N O T   S U P P O R T E D | 
* checking for file 'imageHTS/DESCRIPTION' ... OK
* preparing 'imageHTS':
* checking DESCRIPTION meta-information ... OK
* installing the package to re-build vignettes
      -----------------------------------
ERROR: dependency 'EBImage' is not available for package 'imageHTS'
* removing 'D:/biocbld/bbs-2.9-bioc/tmpdir/RtmpaySIiJ/Rinst63d639/imageHTS'
      -----------------------------------
ERROR: package installation failed