graph 1.31.1 Seth Falcon
 | Snapshot Date: 2011-07-06 19:21:50 -0700 (Wed, 06 Jul 2011) |  | URL: https://hedgehog.fhcrc.org/bioconductor/trunk/madman/Rpacks/graph |  | Last Changed Rev: 54945 / Revision: 56603 |  | Last Changed Date: 2011-04-19 13:42:15 -0700 (Tue, 19 Apr 2011) |  
  | wilson2  | Linux (openSUSE 11.4) / x86_64  |  OK  |  OK  |  | 
| liverpool  | Windows Server 2003 R2 (32-bit) / x64  |  OK  |  WARNINGS  |  OK  | 
| gewurz  | Windows Server 2008 R2 Enterprise (64-bit) / x64  |  OK  |  WARNINGS  | [ OK ] | 
| moscato1  | Windows Server 2008 R2 Enterprise (64-bit) / x64  |  OK  |  OK  |  OK  | 
| pitt  | Mac OS X Leopard (10.5.8) / i386  |  OK  |  OK  |  OK  | 
* installing *source* package 'graph' ...
** libs
x86_64-w64-mingw32-gcc  -I"D:/biocbld/bbs-2.9-bioc/R/include"          -O2 -Wall  -std=gnu99 -c graph.c -o graph.o
x86_64-w64-mingw32-gcc -shared -s -static-libgcc -o graph.dll tmp.def graph.o -LD:/biocbld/bbs-2.9-bioc/R/bin/x64 -lR
mv graph.dll BioC_graph.dll
installing to D:/biocbld/bbs-2.9-bioc/meat/graph.buildbin-libdir/graph/libs/x64
** R
** data
** inst
** preparing package for lazy loading
** help
*** installing help indices
** building package indices ...
*** tangling vignette sources ...
   'GraphClass.Rnw' 
   'MultiGraphClass.Rnw' 
   'clusterGraph.Rnw' 
   'graph.Rnw' 
   'graphAttributes.Rnw' 
** testing if installed package can be loaded
* MD5 sums
packaged installation of 'graph' as graph_1.31.1.zip
* DONE (graph)