genoset 1.1.0 Peter M. Haverty
 | Snapshot Date: 2011-07-06 19:21:50 -0700 (Wed, 06 Jul 2011) |  | URL: https://hedgehog.fhcrc.org/bioconductor/trunk/madman/Rpacks/genoset |  | Last Changed Rev: 54802 / Revision: 56603 |  | Last Changed Date: 2011-04-13 15:36:43 -0700 (Wed, 13 Apr 2011) |  
  | wilson2  | Linux (openSUSE 11.4) / x86_64  |  OK  | [ OK ] |  | 
| liverpool  | Windows Server 2003 R2 (32-bit) / x64  |  OK  |  OK  |  OK  | 
| gewurz  | Windows Server 2008 R2 Enterprise (64-bit) / x64  |  OK  |  OK  |  OK  | 
| moscato1  | Windows Server 2008 R2 Enterprise (64-bit) / x64  |  OK  |  OK  |  OK  | 
| pitt  | Mac OS X Leopard (10.5.8) / i386  |  OK  |  OK  |  OK  | 
* using log directory ‘/loc/home/biocbuild/bbs-2.9-bioc/meat/genoset.Rcheck’
* using R version 2.14.0 Under development (unstable) (2011-06-15 r56138)
* using platform: x86_64-unknown-linux-gnu (64-bit)
* using session charset: UTF-8
* using option ‘--no-vignettes’
* checking for file ‘genoset/DESCRIPTION’ ... OK
* checking extension type ... Package
* this is package ‘genoset’ version ‘1.1.0’
* checking package name space information ... OK
* checking package dependencies ... NOTE
Package which this enhances but not available for checking: multicore
* checking if this is a source package ... OK
* checking whether package ‘genoset’ can be installed ... OK
* checking installed package size ... OK
* checking package directory ... OK
* checking for portable file names ... OK
* checking for sufficient/correct file permissions ... OK
* checking DESCRIPTION meta-information ... OK
* checking top-level files ... OK
* checking index information ... OK
* checking package subdirectories ... OK
* checking R files for non-ASCII characters ... OK
* checking R files for syntax errors ... OK
* checking whether the package can be loaded ... OK
* checking whether the package can be loaded with stated dependencies ... OK
* checking whether the package can be unloaded cleanly ... OK
* checking whether the name space can be loaded with stated dependencies ... OK
* checking whether the name space can be unloaded cleanly ... OK
* checking for unstated dependencies in R code ... OK
* checking S3 generic/method consistency ... OK
* checking replacement functions ... OK
* checking foreign function calls ... OK
* checking R code for possible problems ... OK
* checking Rd files ... OK
* checking Rd metadata ... OK
* checking Rd cross-references ... OK
* checking for missing documentation entries ... OK
* checking for code/documentation mismatches ... OK
* checking Rd \usage sections ... OK
* checking Rd contents ... OK
* checking for unstated dependencies in examples ... OK
* checking contents of ‘data’ directory ... OK
* checking data for non-ASCII characters ... OK
* checking data for ASCII and uncompressed saves ... OK
* checking line endings in C/C++/Fortran sources/headers ... OK
* checking line endings in Makefiles ... OK
* checking for portable use of $(BLAS_LIBS) and $(LAPACK_LIBS) ... OK
* checking examples ... OK
* checking for unstated dependencies in tests ... OK
* checking tests ...
  Running ‘prove.pmh.utils.R’
  Comparing ‘prove.pmh.utils.Rout’ to ‘prove.pmh.utils.Rout.save’ ... OK
 OK
* checking for unstated dependencies in vignettes ... OK
* checking package vignettes in ‘inst/doc’ ... OK
* checking running R code from vignettes ... SKIPPED
* checking re-building of vignettes ... SKIPPED
* checking PDF version of manual ... OK
 
* installing *source* package ‘genoset’ ...
** libs
gcc -std=gnu99 -I/home/biocbuild/bbs-2.9-bioc/R/include  -I/usr/local/include    -fpic  -g -O2 -Wall -c genoset.c -o genoset.o
gcc -std=gnu99 -shared -L/usr/local/lib64 -o genoset.so genoset.o -L/home/biocbuild/bbs-2.9-bioc/R/lib -lR
installing to /loc/home/biocbuild/bbs-2.9-bioc/meat/genoset.Rcheck/genoset/libs
** R
** data
** inst
** preparing package for lazy loading
Welcome to Bioconductor
  Vignettes contain introductory material. To view, type
  'browseVignettes()'. To cite Bioconductor, see
  'citation("Biobase")' and for packages 'citation("pkgname")'.
Attaching package: ‘IRanges’
The following object(s) are masked from ‘package:Biobase’:
    updateObject
The following object(s) are masked from ‘package:base’:
    Map, cbind, eval, intersect, mapply, order, paste, pmax, pmax.int,
    pmin, pmin.int, rbind, rep.int, setdiff, table, union
**************************************************************************
   The plan to change the data format for CNA object has been postponed   
 in order to ensure backward compatibility with older versions of DNAcopy 
**************************************************************************
** help
*** installing help indices
** building package indices ...
*** tangling vignette sources ...
   ‘genoset.Rnw’ 
** testing if installed package can be loaded
* DONE (genoset)