gaga 1.99.0 David Rossell
 | Snapshot Date: 2011-07-06 19:21:50 -0700 (Wed, 06 Jul 2011) |  | URL: https://hedgehog.fhcrc.org/bioconductor/trunk/madman/Rpacks/gaga |  | Last Changed Rev: 55903 / Revision: 56603 |  | Last Changed Date: 2011-05-30 06:18:51 -0700 (Mon, 30 May 2011) |  
  | wilson2  | Linux (openSUSE 11.4) / x86_64  |  OK  |  OK  |  | 
| liverpool  | Windows Server 2003 R2 (32-bit) / x64  |  OK  |  OK  |  OK  | 
| gewurz  | Windows Server 2008 R2 Enterprise (64-bit) / x64  |  OK  |  OK  | [ OK ] | 
| moscato1  | Windows Server 2008 R2 Enterprise (64-bit) / x64  |  OK  |  OK  |  OK  | 
| pitt  | Mac OS X Leopard (10.5.8) / i386  |  OK  |  OK  |  OK  | 
* installing *source* package 'gaga' ...
** libs
x86_64-w64-mingw32-gcc  -I"D:/biocbld/bbs-2.9-bioc/R/include"          -O2 -Wall  -std=gnu99 -c cseqdesma.c -o cseqdesma.o
x86_64-w64-mingw32-gcc  -I"D:/biocbld/bbs-2.9-bioc/R/include"          -O2 -Wall  -std=gnu99 -c cstat.c -o cstat.o
x86_64-w64-mingw32-gcc -shared -s -static-libgcc -o gaga.dll tmp.def cseqdesma.o cstat.o -LD:/biocbld/bbs-2.9-bioc/R/bin/x64 -lR
installing to D:/biocbld/bbs-2.9-bioc/meat/gaga.buildbin-libdir/gaga/libs/x64
** R
** inst
** help
*** installing help indices
** building package indices ...
*** tangling vignette sources ...
   'gagamanual.Rnw' 
** testing if installed package can be loaded
* MD5 sums
packaged installation of 'gaga' as gaga_1.99.0.zip
* DONE (gaga)